Workbook

Sheet Demographics
A1: ID | B1: Gender | C1: Ethnic Group | D1: Assignment Category
A2: 1 | B2: F | C2: White (Not Hispanic or Latino) | D2: Fulltime
A3: 3 | B3: F | C3: White (Not Hispanic or Latino) | D3: Fulltime
A4: 4 | B4: M | C4: Asian (Not Hispanic or Latino) | D4: Fulltime
A5: 5 | B5: F | C5: White (Not Hispanic or Latino) | D5: Fulltime
A6: 6 | B6: F | C6: Hispanic or Latino | D6: Fulltime
A7: 10 | B7: M | C7: White (Not Hispanic or Latino) | D7: Fulltime
A8: 11 | B8: M | C8: White (Not Hispanic or Latino) | D8: Fulltime
A9: 13 | B9: M | C9: Hispanic or Latino | D9: Fulltime
A10: 17 | B10: M | C10: Hispanic or Latino | D10: Fulltime
A11: 18 | B11: M | C11: White (Not Hispanic or Latino) | D11: Fulltime
A12: 22 | B12: M | C12: White (Not Hispanic or Latino) | D12: Fulltime
A13: 24 | B13: M | C13: White (Not Hispanic or Latino) | D13: Fulltime
... A2338: 3578 | B2338: M | C2338: Hispanic or Latino | D2338: Part-time

Sheet Job Data
A1: ID | B1: Job Name | C1: Location | D1: Last Hire Date | E1: Gender | F1: Ethnic Group | G1: Assignment Category | H1: Bonus Info | I1: Salary Grade | J1: Grade Min | K1: Grade Mid | L1: Grade Max | M1: Pay Basis | N1: Current Salary
A2: 2243 | B2: Sr Scientist I. | C2: Raleigh, NC | D2: 25472 | E2: M | F2: White (Not Hispanic or Latino) | G2: Fulltime | H2: 0 | I2: E12.B | J2: =VLOOKUP(A2,'Salary info'!A2:C2338,3,FALSE) -> 53300 | K2: =VLOOKUP(A2,'Salary info'!A2:D2338,4,FALSE) -> 76200 | L2: =VLOOKUP(A2,'Salary info'!A2:E2338,5,FALSE) -> 99100 | M2: =VLOOKUP(A2,'Salary info'!A2:F2338,6,FALSE) -> Salaried | N2: =VLOOKUP(A2,'Salary info'!A2:G2338,7,FALSE) -> 69997.5
A3: 2242 | B3: CAD Technician I. | C3: Tampa, FL | D3: 26816 | E3: M | F3: White (Not Hispanic or Latino) | G3: Part-time | H3: 0 | I3: N7.B | J3: =VLOOKUP(A3,'Salary info'!A3:C2339,3,FALSE) -> 30000 | K3: =VLOOKUP(A3,'Salary info'!A3:D2339,4,FALSE) -> 40000 | L3: =VLOOKUP(A3,'Salary info'!A3:E2339,5,FALSE) -> 50000 | M3: =VLOOKUP(A3,'Salary info'!A3:F2339,6,FALSE) -> Hourly | N3: =VLOOKUP(A3,'Salary info'!A3:G2339,7,FALSE) -> 16.048
A4: 1331 | B4: Proposal Coordinator II. | C4: Dallas, TX | D4: 27050 | E4: F | F4: Black or African American (Not Hispanic or Latino) | G4: Fulltime | H4: 0 | I4: E11.B | J4: =VLOOKUP(A4,'Salary info'!A4:C2340,3,FALSE) -> 44500 | K4: =VLOOKUP(A4,'Salary info'!A4:D2340,4,FALSE) -> 63500 | L4: =VLOOKUP(A4,'Salary info'!A4:E2340,5,FALSE) -> 82600 | M4: =VLOOKUP(A4,'Salary info'!A4:F2340,6,FALSE) -> Salaried | N4: =VLOOKUP(A4,'Salary info'!A4:G2340,7,FALSE) -> 57035
A5: 452 | B5: Operations Coordinator I. | C5: Orlando, FL | D5: 28408 | E5: F | F5: White (Not Hispanic or Latino) | G5: Fulltime | H5: 0 | I5: E10.B | J5: =VLOOKUP(A5,'Salary info'!A5:C2341,3,FALSE) -> 37000 | K5: =VLOOKUP(A5,'Salary info'!A5:D2341,4,FALSE) -> 52900 | L5: =VLOOKUP(A5,'Salary info'!A5:E2341,5,FALSE) -> 68800 | M5: =VLOOKUP(A5,'Salary info'!A5:F2341,6,FALSE) -> Salaried | N5: =VLOOKUP(A5,'Salary info'!A5:G2341,7,FALSE) -> 45135
A6: 3577 | B6: Engineer I. | C6: Henderson, NV | D6: 28464 | E6: F | F6: White (Not Hispanic or Latino) | G6: Fulltime | H6: 0 | I6: E10.B | J6: =VLOOKUP(A6,'Salary info'!A6:C2342,3,FALSE) -> 37000 | K6: =VLOOKUP(A6,'Salary info'!A6:D2342,4,FALSE) -> 52900 | L6: =VLOOKUP(A6,'Salary info'!A6:E2342,5,FALSE) -> 68800 | M6: =VLOOKUP(A6,'Salary info'!A6:F2342,6,FALSE) -> Salaried | N6: =VLOOKUP(A6,'Salary info'!A6:G2342,7,FALSE) -> 50150
A7: 3568 | B7: Sr Planner IV. | C7: Atlanta, GA | D7: 28522 | E7: M | F7: White (Not Hispanic or Latino) | G7: Part-time | H7: 0 | I7: E16.B | J7: =VLOOKUP(A7,'Salary info'!A7:C2343,3,FALSE) -> 92300 | K7: =VLOOKUP(A7,'Salary info'!A7:D2343,4,FALSE) -> 131800 | L7: =VLOOKUP(A7,'Salary info'!A7:E2343,5,FALSE) -> 171300 | M7: =VLOOKUP(A7,'Salary info'!A7:F2343,6,FALSE) -> Hourly | N7: =VLOOKUP(A7,'Salary info'!A7:G2343,7,FALSE) -> 155.55
A8: 3138 | B8: Sr Scientist III. | C8: Atlanta, GA | D8: 28534 | E8: M | F8: White (Not Hispanic or Latino) | G8: Fulltime | H8: 4666.5 | I8: E15.B | J8: =VLOOKUP(A8,'Salary info'!A8:C2344,3,FALSE) -> 76900 | K8: =VLOOKUP(A8,'Salary info'!A8:D2344,4,FALSE) -> 109800 | L8: =VLOOKUP(A8,'Salary info'!A8:E2344,5,FALSE) -> 142700 | M8: =VLOOKUP(A8,'Salary info'!A8:F2344,6,FALSE) -> Salaried | N8: =VLOOKUP(A8,'Salary info'!A8:G2344,7,FALSE) -> 93330
A9: 3135 | B9: Principal Project Director. | C9: Austin, TX | D9: 28590 | E9: M | F9: White (Not Hispanic or Latino) | G9: Fulltime | H9: 27081 | I9: E17.B | J9: =VLOOKUP(A9,'Salary info'!A9:C2345,3,FALSE) -> 106100 | K9: =VLOOKUP(A9,'Salary info'!A9:D2345,4,FALSE) -> 151600 | L9: =VLOOKUP(A9,'Salary info'!A9:E2345,5,FALSE) -> 197100 | M9: =VLOOKUP(A9,'Salary info'!A9:F2345,6,FALSE) -> Salaried | N9: =VLOOKUP(A9,'Salary info'!A9:G2345,7,FALSE) -> 180540
A10: 2701 | B10: Sr Engineer III. | C10: Miami, FL | D10: 28803 | E10: M | F10: Hispanic or Latino | G10: Fulltime | H10: 4636 | I10: E15.D | J10: =VLOOKUP(A10,'Salary info'!A10:C2346,3,FALSE) -> 88400 | K10: =VLOOKUP(A10,'Salary info'!A10:D2346,4,FALSE) -> 126300 | L10: =VLOOKUP(A10,'Salary info'!A10:E2346,5,FALSE) -> 164200 | M10: =VLOOKUP(A10,'Salary info'!A10:F2346,6,FALSE) -> Salaried | N10: =VLOOKUP(A10,'Salary info'!A10:G2346,7,FALSE) -> 92720
A11: 1801 | B11: Technical Intern I. | C11: Pensacola, FL | D11: 28915 | E11: M | F11: White (Not Hispanic or Latino) | G11: Part-time | H11: 0 | I11: N4.B | J11: =VLOOKUP(A11,'Salary info'!A11:C2347,3,FALSE) -> 22600 | K11: =VLOOKUP(A11,'Salary info'!A11:D2347,4,FALSE) -> 30100 | L11: =VLOOKUP(A11,'Salary info'!A11:E2347,5,FALSE) -> 37600 | M11: =VLOOKUP(A11,'Salary info'!A11:F2347,6,FALSE) -> Hourly | N11: =VLOOKUP(A11,'Salary info'!A11:G2347,7,FALSE) -> 10.97146
A12: 880 | B12: Administrative Trainee. | C12: Orlando, FL | D12: 29000 | E12: M | F12: White (Not Hispanic or Latino) | G12: Part-time | H12: 0 | I12: N1.B | J12: =VLOOKUP(A12,'Salary info'!A12:C2348,3,FALSE) -> 16900 | K12: =VLOOKUP(A12,'Salary info'!A12:D2348,4,FALSE) -> 22500 | L12: =VLOOKUP(A12,'Salary info'!A12:E2348,5,FALSE) -> 28100 | M12: =VLOOKUP(A12,'Salary info'!A12:F2348,6,FALSE) -> Hourly | N12: =VLOOKUP(A12,'Salary info'!A12:G2348,7,FALSE) -> 8.784
A13: 878 | B13: Sr Group Manager. | C13: Alexandria, VA (F+G) | D13: 29024 | E13: M | F13: White (Not Hispanic or Latino) | G13: Fulltime | H13: 19703 | I13: E16.D | J13: =VLOOKUP(A13,'Salary info'!A13:C2349,3,FALSE) -> 106100 | K13: =VLOOKUP(A13,'Salary info'!A13:D2349,4,FALSE) -> 151600 | L13: =VLOOKUP(A13,'Salary info'!A13:E2349,5,FALSE) -> 197100 | M13: =VLOOKUP(A13,'Salary info'!A13:F2349,6,FALSE) -> Salaried | N13: =VLOOKUP(A13,'Salary info'!A13:G2349,7,FALSE) -> 197030
... A43: 2699 | B43: Sr Scientist I. | C43: Jacksonville, FL | D43: 31126 | E43: M | F43: White (Not Hispanic or Latino) | G43: Part-time | H43: 0 | I43: E12.B | J43: =VLOOKUP(A43,'Salary info'!A43:C2379,3,FALSE) -> 53300 | K43: =VLOOKUP(A43,'Salary info'!A43:D2379,4,FALSE) -> 76200 | L43: =VLOOKUP(A43,'Salary info'!A43:E2379,5,FALSE) -> 99100 | M43: =VLOOKUP(A43,'Salary info'!A43:F2379,6,FALSE) -> Hourly | N43: =VLOOKUP(A43,'Salary info'!A43:G2379,7,FALSE) -> 37.332
A44: 1794 | B44: Scientist I. | C44: Raleigh, NC | D44: 31138 | E44: F | F44: White (Not Hispanic or Latino) | G44: Fulltime | H44: 0 | I44: #N/A | J44: =VLOOKUP(A44,'Salary info'!A44:C2380,3,FALSE) -> #N/A | K44: =VLOOKUP(A44,'Salary info'!A44:D2380,4,FALSE) -> #N/A | L44: =VLOOKUP(A44,'Salary info'!A44:E2380,5,FALSE) -> #N/A | M44: =VLOOKUP(A44,'Salary info'!A44:F2380,6,FALSE) -> #N/A | N44: =VLOOKUP(A44,'Salary info'!A44:G2380,7,FALSE) -> #N/A
A45: 2692 | B45: Sr Scientist I. | C45: Atlanta, GA | D45: 31208 | E45: M | F45: White (Not Hispanic or Latino) | G45: Fulltime | H45: 0 | I45: E12.B | J45: =VLOOKUP(A45,'Salary info'!A45:C2381,3,FALSE) -> 53300 | K45: =VLOOKUP(A45,'Salary info'!A45:D2381,4,FALSE) -> 76200 | L45: =VLOOKUP(A45,'Salary info'!A45:E2381,5,FALSE) -> 99100 | M45: =VLOOKUP(A45,'Salary info'!A45:F2381,6,FALSE) -> Salaried | N45: =VLOOKUP(A45,'Salary info'!A45:G2381,7,FALSE) -> 69479
A46: 459 | B46: Sr Planner II. | C46: Tallahassee, FL | D46: 31243 | E46: M | F46: White (Not Hispanic or Latino) | G46: Fulltime | H46: 0 | I46: E14.C | J46: =VLOOKUP(A46,'Salary info'!A46:C2382,3,FALSE) -> 67300 | K46: =VLOOKUP(A46,'Salary info'!A46:D2382,4,FALSE) -> 96100 | L46: =VLOOKUP(A46,'Salary info'!A46:E2382,5,FALSE) -> 124900 | M46: =VLOOKUP(A46,'Salary info'!A46:F2382,6,FALSE) -> Salaried | N46: =VLOOKUP(A46,'Salary info'!A46:G2382,7,FALSE) -> 80032
A47: 1798 | B47: Sr Scientist I. | C47: Newport News, VA | D47: 31243 | E47: M | F47: White (Not Hispanic or Latino) | G47: Part-time | H47: 0 | I47: E12.B | J47: =VLOOKUP(A47,'Salary info'!A47:C2383,3,FALSE) -> 53300 | K47: =VLOOKUP(A47,'Salary info'!A47:D2383,4,FALSE) -> 76200 | L47: =VLOOKUP(A47,'Salary info'!A47:E2383,5,FALSE) -> 99100 | M47: =VLOOKUP(A47,'Salary info'!A47:F2383,6,FALSE) -> Hourly | N47: =VLOOKUP(A47,'Salary info'!A47:G2383,7,FALSE) -> 27.816
A48: 2233 | B48: Scientist I. | C48: Gavins Point DAM, SD | D48: 31266 | E48: F | F48: White (Not Hispanic or Latino) | G48: Fulltime | H48: 0 | I48: #N/A | J48: =VLOOKUP(A48,'Salary info'!A48:C2384,3,FALSE) -> #N/A | K48: =VLOOKUP(A48,'Salary info'!A48:D2384,4,FALSE) -> #N/A | L48: =VLOOKUP(A48,'Salary info'!A48:E2384,5,FALSE) -> #N/A | M48: =VLOOKUP(A48,'Salary info'!A48:F2384,6,FALSE) -> #N/A | N48: =VLOOKUP(A48,'Salary info'!A48:G2384,7,FALSE) -> #N/A
A49: 1327 | B49: Landscape Architect II. | C49: Henderson, NV | D49: 31271 | E49: M | F49: White (Not Hispanic or Latino) | G49: Part-time | H49: 0 | I49: E11.B | J49: =VLOOKUP(A49,'Salary info'!A49:C2385,3,FALSE) -> 44500 | K49: =VLOOKUP(A49,'Salary info'!A49:D2385,4,FALSE) -> 63500 | L49: =VLOOKUP(A49,'Salary info'!A49:E2385,5,FALSE) -> 82600 | M49: =VLOOKUP(A49,'Salary info'!A49:F2385,6,FALSE) -> Hourly | N49: =VLOOKUP(A49,'Salary info'!A49:G2385,7,FALSE) -> 31.11
A50: 1337 | B50: Project Director. | C50: San Diego, CA | D50: 31285 | E50: M | F50: White (Not Hispanic or Latino) | G50: Fulltime | H50: 19057 | I50: E16.D | J50: =VLOOKUP(A50,'Salary info'!A50:C2386,3,FALSE) -> 106100 | K50: =VLOOKUP(A50,'Salary info'!A50:D2386,4,FALSE) -> 151600 | L50: =VLOOKUP(A50,'Salary info'!A50:E2386,5,FALSE) -> 197100 | M50: =VLOOKUP(A50,'Salary info'!A50:F2386,6,FALSE) -> Salaried | N50: =VLOOKUP(A50,'Salary info'!A50:G2386,7,FALSE) -> 190570
A51: 872 | B51: Field Representative. | C51: Wesley Chapel, FL | D51: 31299 | E51: F | F51: White (Not Hispanic or Latino) | G51: Fulltime | H51: 0 | I51: N8.B | J51: =VLOOKUP(A51,'Salary info'!A51:C2387,3,FALSE) -> 33000 | K51: =VLOOKUP(A51,'Salary info'!A51:D2387,4,FALSE) -> 44000 | L51: =VLOOKUP(A51,'Salary info'!A51:E2387,5,FALSE) -> 55000 | M51: =VLOOKUP(A51,'Salary info'!A51:F2387,6,FALSE) -> Hourly | N51: =VLOOKUP(A51,'Salary info'!A51:G2387,7,FALSE) -> 22.36992
A52: 2246 | B52: Technical Intern I. | C52: Atlanta, GA | D52: 31302 | E52: M | F52: White (Not Hispanic or Latino) | G52: Part-time | H52: 0 | I52: N4.B | J52: =VLOOKUP(A52,'Salary info'!A52:C2388,3,FALSE) -> 22600 | K52: =VLOOKUP(A52,'Salary info'!A52:D2388,4,FALSE) -> 30100 | L52: =VLOOKUP(A52,'Salary info'!A52:E2388,5,FALSE) -> 37600 | M52: =VLOOKUP(A52,'Salary info'!A52:F2388,6,FALSE) -> Hourly | N52: =VLOOKUP(A52,'Salary info'!A52:G2388,7,FALSE) -> 11.5345
A53: 3124 | B53: Sr ROW Agent II. | C53: Atlanta, GA | D53: 31306 | E53: M | F53: Hispanic or Latino | G53: Part-time | H53: 0 | I53: E14.B | J53: =VLOOKUP(A53,'Salary info'!A53:C2389,3,FALSE) -> 64100 | K53: =VLOOKUP(A53,'Salary info'!A53:D2389,4,FALSE) -> 91500 | L53: =VLOOKUP(A53,'Salary info'!A53:E2389,5,FALSE) -> 119000 | M53: =VLOOKUP(A53,'Salary info'!A53:F2389,6,FALSE) -> Hourly | N53: =VLOOKUP(A53,'Salary info'!A53:G2389,7,FALSE) -> 43.92
A54: 1787 | B54: Associate Project Manager. | C54: Calverton, MD | D54: 31342 | E54: M | F54: White (Not Hispanic or Latino) | G54: Fulltime | H54: 0 | I54: E12.D | J54: =VLOOKUP(A54,'Salary info'!A54:C2390,3,FALSE) -> 61300 | K54: =VLOOKUP(A54,'Salary info'!A54:D2390,4,FALSE) -> 87600 | L54: =VLOOKUP(A54,'Salary info'!A54:E2390,5,FALSE) -> 113900 | M54: =VLOOKUP(A54,'Salary info'!A54:F2390,6,FALSE) -> Salaried | N54: =VLOOKUP(A54,'Salary info'!A54:G2390,7,FALSE) -> 79056
A55: 449 | B55: Sr Scientist III. | C55: Raleigh, NC | D55: 31376 | E55: M | F55: White (Not Hispanic or Latino) | G55: Fulltime | H55: 5215.6 | I55: E15.B | J55: =VLOOKUP(A55,'Salary info'!A55:C2391,3,FALSE) -> 76900 | K55: =VLOOKUP(A55,'Salary info'!A55:D2391,4,FALSE) -> 109800 | L55: =VLOOKUP(A55,'Salary info'!A55:E2391,5,FALSE) -> 142700 | M55: =VLOOKUP(A55,'Salary info'!A55:F2391,6,FALSE) -> Salaried | N55: =VLOOKUP(A55,'Salary info'!A55:G2391,7,FALSE) -> 104312
A56: 1339 | B56: Sr Group Manager. | C56: Phoenix, AZ | D56: 31376 | E56: M | F56: White (Not Hispanic or Latino) | G56: Fulltime | H56: 12517.44 | I56: E16.B | J56: =VLOOKUP(A56,'Salary info'!A56:C2392,3,FALSE) -> 92300 | K56: =VLOOKUP(A56,'Salary info'!A56:D2392,4,FALSE) -> 131800 | L56: =VLOOKUP(A56,'Salary info'!A56:E2392,5,FALSE) -> 171300 | M56: =VLOOKUP(A56,'Salary info'!A56:F2392,6,FALSE) -> Salaried | N56: =VLOOKUP(A56,'Salary info'!A56:G2392,7,FALSE) -> 125174.4
A57: 1233 | B57: Field Technician II. | C57: Austin, TX | D57: 31516 | E57: M | F57: White (Not Hispanic or Latino) | G57: Part-time | H57: 0 | I57: N7.B | J57: =VLOOKUP(A57,'Salary info'!A57:C2393,3,FALSE) -> 30000 | K57: =VLOOKUP(A57,'Salary info'!A57:D2393,4,FALSE) -> 40000 | L57: =VLOOKUP(A57,'Salary info'!A57:E2393,5,FALSE) -> 50000 | M57: =VLOOKUP(A57,'Salary info'!A57:F2393,6,FALSE) -> Hourly | N57: =VLOOKUP(A57,'Salary info'!A57:G2393,7,FALSE) -> 17.629
A58: 354 | B58: Project Manager. | C58: Newport News, VA | D58: 31565 | E58: M | F58: White (Not Hispanic or Latino) | G58: Part-time | H58: 0 | I58: E14.B | J58: =VLOOKUP(A58,'Salary info'!A58:C2394,3,FALSE) -> 64100 | K58: =VLOOKUP(A58,'Salary info'!A58:D2394,4,FALSE) -> 91500 | L58: =VLOOKUP(A58,'Salary info'!A58:E2394,5,FALSE) -> 119000 | M58: =VLOOKUP(A58,'Salary info'!A58:F2394,6,FALSE) -> Hourly | N58: =VLOOKUP(A58,'Salary info'!A58:G2394,7,FALSE) -> 39.04
A59: 1340 | B59: Sr Scientist III. | C59: Jacksonville, FL | D59: 31565 | E59: M | F59: White (Not Hispanic or Latino) | G59: Part-time | H59: 0 | I59: E15.B | J59: =VLOOKUP(A59,'Salary info'!A59:C2395,3,FALSE) -> 76900 | K59: =VLOOKUP(A59,'Salary info'!A59:D2395,4,FALSE) -> 109800 | L59: =VLOOKUP(A59,'Salary info'!A59:E2395,5,FALSE) -> 142700 | M59: =VLOOKUP(A59,'Salary info'!A59:F2395,6,FALSE) -> Hourly | N59: =VLOOKUP(A59,'Salary info'!A59:G2395,7,FALSE) -> 57.035
A60: 1725 | B60: Construction Management Representative II. | C60: Nashville, TN | D60: 31579 | E60: F | F60: White (Not Hispanic or Latino) | G60: Fulltime | H60: 0 | I60: E11.A | J60: =VLOOKUP(A60,'Salary info'!A60:C2396,3,FALSE) -> 42200 | K60: =VLOOKUP(A60,'Salary info'!A60:D2396,4,FALSE) -> 60300 | L60: =VLOOKUP(A60,'Salary info'!A60:E2396,5,FALSE) -> 78400 | M60: =VLOOKUP(A60,'Salary info'!A60:F2396,6,FALSE) -> Salaried | N60: =VLOOKUP(A60,'Salary info'!A60:G2396,7,FALSE) -> 58872.32
... A80: 3470 | B80: Project Manager. | C80: Raleigh, NC | D80: 32202 | E80: F | F80: White (Not Hispanic or Latino) | G80: Part-time | H80: 0 | I80: E14.B | J80: =VLOOKUP(A80,'Salary info'!A80:C2416,3,FALSE) -> 64100 | K80: =VLOOKUP(A80,'Salary info'!A80:D2416,4,FALSE) -> 91500 | L80: =VLOOKUP(A80,'Salary info'!A80:E2416,5,FALSE) -> 119000 | M80: =VLOOKUP(A80,'Salary info'!A80:F2416,6,FALSE) -> Hourly | N80: =VLOOKUP(A80,'Salary info'!A80:G2416,7,FALSE) -> 41.48
A81: 3039 | B81: Operations Coordinator I. | C81: Lake City, FL | D81: 32209 | E81: F | F81: White (Not Hispanic or Latino) | G81: Fulltime | H81: 0 | I81: #N/A | J81: =VLOOKUP(A81,'Salary info'!A81:C2417,3,FALSE) -> #N/A | K81: =VLOOKUP(A81,'Salary info'!A81:D2417,4,FALSE) -> #N/A | L81: =VLOOKUP(A81,'Salary info'!A81:E2417,5,FALSE) -> #N/A | M81: =VLOOKUP(A81,'Salary info'!A81:F2417,6,FALSE) -> #N/A | N81: =VLOOKUP(A81,'Salary info'!A81:G2417,7,FALSE) -> #N/A
A82: 2145 | B82: Sr Engineer II. | C82: Austin, TX | D82: 32223 | E82: M | F82: White (Not Hispanic or Latino) | G82: Fulltime | H82: 0 | I82: E14.B | J82: =VLOOKUP(A82,'Salary info'!A82:C2418,3,FALSE) -> 64100 | K82: =VLOOKUP(A82,'Salary info'!A82:D2418,4,FALSE) -> 91500 | L82: =VLOOKUP(A82,'Salary info'!A82:E2418,5,FALSE) -> 119000 | M82: =VLOOKUP(A82,'Salary info'!A82:F2418,6,FALSE) -> Salaried | N82: =VLOOKUP(A82,'Salary info'!A82:G2418,7,FALSE) -> 88145
A83: 3032 | B83: Sr Engineer II. | C83: Metairie, LA | D83: 32230 | E83: M | F83: White (Not Hispanic or Latino) | G83: Fulltime | H83: 0 | I83: E14.B | J83: =VLOOKUP(A83,'Salary info'!A83:C2419,3,FALSE) -> 64100 | K83: =VLOOKUP(A83,'Salary info'!A83:D2419,4,FALSE) -> 91500 | L83: =VLOOKUP(A83,'Salary info'!A83:E2419,5,FALSE) -> 119000 | M83: =VLOOKUP(A83,'Salary info'!A83:F2419,6,FALSE) -> Salaried | N83: =VLOOKUP(A83,'Salary info'!A83:G2419,7,FALSE) -> 95404
A84: 3031 | B84: Sr Designer I. | C84: Lake City, FL | D84: 32262 | E84: M | F84: White (Not Hispanic or Latino) | G84: Fulltime | H84: 0 | I84: E12.B | J84: =VLOOKUP(A84,'Salary info'!A84:C2420,3,FALSE) -> 53300 | K84: =VLOOKUP(A84,'Salary info'!A84:D2420,4,FALSE) -> 76200 | L84: =VLOOKUP(A84,'Salary info'!A84:E2420,5,FALSE) -> 99100 | M84: =VLOOKUP(A84,'Salary info'!A84:F2420,6,FALSE) -> Salaried | N84: =VLOOKUP(A84,'Salary info'!A84:G2420,7,FALSE) -> 74664
A85: 2598 | B85: Sr Engineer I. | C85: Ft. Worth, TX | D85: 32265 | E85: M | F85: White (Not Hispanic or Latino) | G85: Fulltime | H85: 0 | I85: E12.B | J85: =VLOOKUP(A85,'Salary info'!A85:C2421,3,FALSE) -> 53300 | K85: =VLOOKUP(A85,'Salary info'!A85:D2421,4,FALSE) -> 76200 | L85: =VLOOKUP(A85,'Salary info'!A85:E2421,5,FALSE) -> 99100 | M85: =VLOOKUP(A85,'Salary info'!A85:F2421,6,FALSE) -> Salaried | N85: =VLOOKUP(A85,'Salary info'!A85:G2421,7,FALSE) -> 76738
A86: 2164 | B86: Engineer II. | C86: Bartow, FL | D86: 32279 | E86: M | F86: White (Not Hispanic or Latino) | G86: Fulltime | H86: 0 | I86: E11.B | J86: =VLOOKUP(A86,'Salary info'!A86:C2422,3,FALSE) -> 44500 | K86: =VLOOKUP(A86,'Salary info'!A86:D2422,4,FALSE) -> 63500 | L86: =VLOOKUP(A86,'Salary info'!A86:E2422,5,FALSE) -> 82600 | M86: =VLOOKUP(A86,'Salary info'!A86:F2422,6,FALSE) -> Salaried | N86: =VLOOKUP(A86,'Salary info'!A86:G2422,7,FALSE) -> 70516
A87: 2139 | B87: Scientist I. | C87: Calverton, MD | D87: 32288 | E87: F | F87: White (Not Hispanic or Latino) | G87: Fulltime | H87: 0 | I87: E10.D | J87: =VLOOKUP(A87,'Salary info'!A87:C2423,3,FALSE) -> 42600 | K87: =VLOOKUP(A87,'Salary info'!A87:D2423,4,FALSE) -> 60800 | L87: =VLOOKUP(A87,'Salary info'!A87:E2423,5,FALSE) -> 79000 | M87: =VLOOKUP(A87,'Salary info'!A87:F2423,6,FALSE) -> Salaried | N87: =VLOOKUP(A87,'Salary info'!A87:G2423,7,FALSE) -> 39040
A88: 1715 | B88: Proposal Coordinator II. | C88: Tallahassee, FL | D88: 32295 | E88: M | F88: White (Not Hispanic or Latino) | G88: Part-time | H88: 0 | I88: E11.C | J88: =VLOOKUP(A88,'Salary info'!A88:C2424,3,FALSE) -> 46700 | K88: =VLOOKUP(A88,'Salary info'!A88:D2424,4,FALSE) -> 66700 | L88: =VLOOKUP(A88,'Salary info'!A88:E2424,5,FALSE) -> 86700 | M88: =VLOOKUP(A88,'Salary info'!A88:F2424,6,FALSE) -> Hourly | N88: =VLOOKUP(A88,'Salary info'!A88:G2424,7,FALSE) -> 26.352
A89: 782 | B89: Technician I. | C89: Houston, TX | D89: 32300 | E89: M | F89: White (Not Hispanic or Latino) | G89: Part-time | H89: 0 | I89: N7.A | J89: =VLOOKUP(A89,'Salary info'!A89:C2425,3,FALSE) -> 28500 | K89: =VLOOKUP(A89,'Salary info'!A89:D2425,4,FALSE) -> 38000 | L89: =VLOOKUP(A89,'Salary info'!A89:E2425,5,FALSE) -> 47500 | M89: =VLOOKUP(A89,'Salary info'!A89:F2425,6,FALSE) -> Hourly | N89: =VLOOKUP(A89,'Salary info'!A89:G2425,7,FALSE) -> 14.64
A90: 2163 | B90: Associate Project Manager. | C90: Calverton, MD | D90: 32307 | E90: M | F90: White (Not Hispanic or Latino) | G90: Fulltime | H90: 0 | I90: E12.D | J90: =VLOOKUP(A90,'Salary info'!A90:C2426,3,FALSE) -> 61300 | K90: =VLOOKUP(A90,'Salary info'!A90:D2426,4,FALSE) -> 87600 | L90: =VLOOKUP(A90,'Salary info'!A90:E2426,5,FALSE) -> 113900 | M90: =VLOOKUP(A90,'Salary info'!A90:F2426,6,FALSE) -> Salaried | N90: =VLOOKUP(A90,'Salary info'!A90:G2426,7,FALSE) -> 81008
A91: 1722 | B91: Sr ROW Agent II. | C91: Jacksonville, FL | D91: 32314 | E91: M | F91: White (Not Hispanic or Latino) | G91: Fulltime | H91: 0 | I91: E14.B | J91: =VLOOKUP(A91,'Salary info'!A91:C2427,3,FALSE) -> 64100 | K91: =VLOOKUP(A91,'Salary info'!A91:D2427,4,FALSE) -> 91500 | L91: =VLOOKUP(A91,'Salary info'!A91:E2427,5,FALSE) -> 119000 | M91: =VLOOKUP(A91,'Salary info'!A91:F2427,6,FALSE) -> Salaried | N91: =VLOOKUP(A91,'Salary info'!A91:G2427,7,FALSE) -> 85255
A92: 1228 | B92: Associate Construction Manager. | C92: Atlanta, GA | D92: 32329 | E92: M | F92: White (Not Hispanic or Latino) | G92: Fulltime | H92: 0 | I92: E12.B | J92: =VLOOKUP(A92,'Salary info'!A92:C2428,3,FALSE) -> 53300 | K92: =VLOOKUP(A92,'Salary info'!A92:D2428,4,FALSE) -> 76200 | L92: =VLOOKUP(A92,'Salary info'!A92:E2428,5,FALSE) -> 99100 | M92: =VLOOKUP(A92,'Salary info'!A92:F2428,6,FALSE) -> Salaried | N92: =VLOOKUP(A92,'Salary info'!A92:G2428,7,FALSE) -> 80445.414
A93: 785 | B93: Associate Project Manager. | C93: Calverton, MD | D93: 32370 | E93: M | F93: Black or African American (Not Hispanic or Latino) | G93: Fulltime | H93: 0 | I93: E12.D | J93: =VLOOKUP(A93,'Salary info'!A93:C2429,3,FALSE) -> 61300 | K93: =VLOOKUP(A93,'Salary info'!A93:D2429,4,FALSE) -> 87600 | L93: =VLOOKUP(A93,'Salary info'!A93:E2429,5,FALSE) -> 113900 | M93: =VLOOKUP(A93,'Salary info'!A93:F2429,6,FALSE) -> Salaried | N93: =VLOOKUP(A93,'Salary info'!A93:G2429,7,FALSE) -> 73200
A94: 3501 | B94: Scientist I. | C94: Houston, TX | D94: 32392 | E94: F | F94: Hispanic or Latino | G94: Fulltime | H94: 0 | I94: #N/A | J94: =VLOOKUP(A94,'Salary info'!A94:C2430,3,FALSE) -> #N/A | K94: =VLOOKUP(A94,'Salary info'!A94:D2430,4,FALSE) -> #N/A | L94: =VLOOKUP(A94,'Salary info'!A94:E2430,5,FALSE) -> #N/A | M94: =VLOOKUP(A94,'Salary info'!A94:F2430,6,FALSE) -> #N/A | N94: =VLOOKUP(A94,'Salary info'!A94:G2430,7,FALSE) -> #N/A
A95: 3024 | B95: Sr Project Manager. | C95: Orlando, FL | D95: 32419 | E95: M | F95: Hispanic or Latino | G95: Fulltime | H95: 6222 | I95: E15.B | J95: =VLOOKUP(A95,'Salary info'!A95:C2431,3,FALSE) -> 76900 | K95: =VLOOKUP(A95,'Salary info'!A95:D2431,4,FALSE) -> 109800 | L95: =VLOOKUP(A95,'Salary info'!A95:E2431,5,FALSE) -> 142700 | M95: =VLOOKUP(A95,'Salary info'!A95:F2431,6,FALSE) -> Salaried | N95: =VLOOKUP(A95,'Salary info'!A95:G2431,7,FALSE) -> 124440
A96: 2596 | B96: Engineer I. | C96: San Juan, PR | D96: 32440 | E96: F | F96: Hispanic or Latino | G96: Fulltime | H96: 0 | I96: #N/A | J96: =VLOOKUP(A96,'Salary info'!A96:C2432,3,FALSE) -> #N/A | K96: =VLOOKUP(A96,'Salary info'!A96:D2432,4,FALSE) -> #N/A | L96: =VLOOKUP(A96,'Salary info'!A96:E2432,5,FALSE) -> #N/A | M96: =VLOOKUP(A96,'Salary info'!A96:F2432,6,FALSE) -> #N/A | N96: =VLOOKUP(A96,'Salary info'!A96:G2432,7,FALSE) -> #N/A
A97: 2141 | B97: Project Manager. | C97: Ft. Lauderdale, FL | D97: 32440 | E97: M | F97: White (Not Hispanic or Latino) | G97: Fulltime | H97: 0 | I97: E14.D | J97: =VLOOKUP(A97,'Salary info'!A97:C2433,3,FALSE) -> 73600 | K97: =VLOOKUP(A97,'Salary info'!A97:D2433,4,FALSE) -> 105200 | L97: =VLOOKUP(A97,'Salary info'!A97:E2433,5,FALSE) -> 136800 | M97: =VLOOKUP(A97,'Salary info'!A97:F2433,6,FALSE) -> Salaried | N97: =VLOOKUP(A97,'Salary info'!A97:G2433,7,FALSE) -> 78080
A98: 2135 | B98: Associate Project Manager. | C98: Atlanta, GA | D98: 32447 | E98: M | F98: White (Not Hispanic or Latino) | G98: Fulltime | H98: 0 | I98: E12.B | J98: =VLOOKUP(A98,'Salary info'!A98:C2434,3,FALSE) -> 53300 | K98: =VLOOKUP(A98,'Salary info'!A98:D2434,4,FALSE) -> 76200 | L98: =VLOOKUP(A98,'Salary info'!A98:E2434,5,FALSE) -> 99100 | M98: =VLOOKUP(A98,'Salary info'!A98:F2434,6,FALSE) -> Salaried | N98: =VLOOKUP(A98,'Salary info'!A98:G2434,7,FALSE) -> 76128
A99: 1706 | B99: Engineer I. | C99: Orlando, FL | D99: 32475 | E99: F | F99: White (Not Hispanic or Latino) | G99: Fulltime | H99: 0 | I99: #N/A | J99: =VLOOKUP(A99,'Salary info'!A99:C2435,3,FALSE) -> #N/A | K99: =VLOOKUP(A99,'Salary info'!A99:D2435,4,FALSE) -> #N/A | L99: =VLOOKUP(A99,'Salary info'!A99:E2435,5,FALSE) -> #N/A | M99: =VLOOKUP(A99,'Salary info'!A99:F2435,6,FALSE) -> #N/A | N99: =VLOOKUP(A99,'Salary info'!A99:G2435,7,FALSE) -> #N/A
A100: 1253 | B100: Sr Engineer II. | C100: Austin, TX | D100: 32482 | E100: M | F100: White (Not Hispanic or Latino) | G100: Fulltime | H100: 0 | I100: E14.B | J100: =VLOOKUP(A100,'Salary info'!A100:C2436,3,FALSE) -> 64100 | K100: =VLOOKUP(A100,'Salary info'!A100:D2436,4,FALSE) -> 91500 | L100: =VLOOKUP(A100,'Salary info'!A100:E2436,5,FALSE) -> 119000 | M100: =VLOOKUP(A100,'Salary info'!A100:F2436,6,FALSE) -> Salaried | N100: =VLOOKUP(A100,'Salary info'!A100:G2436,7,FALSE) -> 82960
A101: 1227 | B101: Principal Project Director. | C101: Houston, TX | D101: 32539 | E101: M | F101: White (Not Hispanic or Latino) | G101: Fulltime | H101: 25620 | I101: E17.A | J101: =VLOOKUP(A101,'Salary info'!A101:C2437,3,FALSE) -> 100800 | K101: =VLOOKUP(A101,'Salary info'!A101:D2437,4,FALSE) -> 144000 | L101: =VLOOKUP(A101,'Salary info'!A101:E2437,5,FALSE) -> 187200 | M101: =VLOOKUP(A101,'Salary info'!A101:F2437,6,FALSE) -> Salaried | N101: =VLOOKUP(A101,'Salary info'!A101:G2437,7,FALSE) -> 170800
A102: 1210 | B102: Sr Designer II. | C102: San Diego, CA | D102: 32540 | E102: M | F102: Hispanic or Latino | G102: Part-time | H102: 0 | I102: E14.D | J102: =VLOOKUP(A102,'Salary info'!A102:C2438,3,FALSE) -> 73600 | K102: =VLOOKUP(A102,'Salary info'!A102:D2438,4,FALSE) -> 105200 | L102: =VLOOKUP(A102,'Salary info'!A102:E2438,5,FALSE) -> 136800 | M102: =VLOOKUP(A102,'Salary info'!A102:F2438,6,FALSE) -> Hourly | N102: =VLOOKUP(A102,'Salary info'!A102:G2438,7,FALSE) -> 70.21
A103: 790 | B103: Sr CAD Technician II. | C103: Tampa, FL | D103: 32602 | E103: F | F103: White (Not Hispanic or Latino) | G103: Fulltime | H103: 0 | I103: N10.B | J103: =VLOOKUP(A103,'Salary info'!A103:C2439,3,FALSE) -> 43600 | K103: =VLOOKUP(A103,'Salary info'!A103:D2439,4,FALSE) -> 58100 | L103: =VLOOKUP(A103,'Salary info'!A103:E2439,5,FALSE) -> 72600 | M103: =VLOOKUP(A103,'Salary info'!A103:F2439,6,FALSE) -> Hourly | N103: =VLOOKUP(A103,'Salary info'!A103:G2439,7,FALSE) -> 29.036
A104: 3581 | B104: Sr Engineer I. | C104: Houston, TX | D104: 32615 | E104: M | F104: White (Not Hispanic or Latino) | G104: Fulltime | H104: 0 | I104: E12.A | J104: =VLOOKUP(A104,'Salary info'!A104:C2440,3,FALSE) -> 50700 | K104: =VLOOKUP(A104,'Salary info'!A104:D2440,4,FALSE) -> 72400 | L104: =VLOOKUP(A104,'Salary info'!A104:E2440,5,FALSE) -> 94100 | M104: =VLOOKUP(A104,'Salary info'!A104:F2440,6,FALSE) -> Salaried | N104: =VLOOKUP(A104,'Salary info'!A104:G2440,7,FALSE) -> 67201
A105: 3015 | B105: Sr ROW Agent II. | C105: Lake City, FL | D105: 32629 | E105: M | F105: White (Not Hispanic or Latino) | G105: Fulltime | H105: 0 | I105: E14.B | J105: =VLOOKUP(A105,'Salary info'!A105:C2441,3,FALSE) -> 64100 | K105: =VLOOKUP(A105,'Salary info'!A105:D2441,4,FALSE) -> 91500 | L105: =VLOOKUP(A105,'Salary info'!A105:E2441,5,FALSE) -> 119000 | M105: =VLOOKUP(A105,'Salary info'!A105:F2441,6,FALSE) -> Salaried | N105: =VLOOKUP(A105,'Salary info'!A105:G2441,7,FALSE) -> 82960.996
A106: 3020 | B106: Engineer I. | C106: Orlando, FL | D106: 32631 | E106: F | F106: White (Not Hispanic or Latino) | G106: Fulltime | H106: 0 | I106: #N/A | J106: =VLOOKUP(A106,'Salary info'!A106:C2442,3,FALSE) -> #N/A | K106: =VLOOKUP(A106,'Salary info'!A106:D2442,4,FALSE) -> #N/A | L106: =VLOOKUP(A106,'Salary info'!A106:E2442,5,FALSE) -> #N/A | M106: =VLOOKUP(A106,'Salary info'!A106:F2442,6,FALSE) -> #N/A | N106: =VLOOKUP(A106,'Salary info'!A106:G2442,7,FALSE) -> #N/A
A107: 2595 | B107: Engineer I. | C107: Orlando, FL | D107: 32636 | E107: F | F107: White (Not Hispanic or Latino) | G107: Fulltime | H107: 0 | I107: #N/A | J107: =VLOOKUP(A107,'Salary info'!A107:C2443,3,FALSE) -> #N/A | K107: =VLOOKUP(A107,'Salary info'!A107:D2443,4,FALSE) -> #N/A | L107: =VLOOKUP(A107,'Salary info'!A107:E2443,5,FALSE) -> #N/A | M107: =VLOOKUP(A107,'Salary info'!A107:F2443,6,FALSE) -> #N/A | N107: =VLOOKUP(A107,'Salary info'!A107:G2443,7,FALSE) -> #N/A
A108: 2126 | B108: Technical Intern II. | C108: Tallahassee, FL | D108: 32650 | E108: M | F108: Black or African American (Not Hispanic or Latino) | G108: Part-time | H108: 0 | I108: N6.C | J108: =VLOOKUP(A108,'Salary info'!A108:C2444,3,FALSE) -> 28700 | K108: =VLOOKUP(A108,'Salary info'!A108:D2444,4,FALSE) -> 38200 | L108: =VLOOKUP(A108,'Salary info'!A108:E2444,5,FALSE) -> 47800 | M108: =VLOOKUP(A108,'Salary info'!A108:F2444,6,FALSE) -> Hourly | N108: =VLOOKUP(A108,'Salary info'!A108:G2444,7,FALSE) -> 15.555
A109: 2132 | B109: Administrative Coordinator I. | C109: Atlanta, GA | D109: 32664 | E109: F | F109: Black or African American (Not Hispanic or Latino) | G109: Fulltime | H109: 0 | I109: #N/A | J109: =VLOOKUP(A109,'Salary info'!A109:C2445,3,FALSE) -> #N/A | K109: =VLOOKUP(A109,'Salary info'!A109:D2445,4,FALSE) -> #N/A | L109: =VLOOKUP(A109,'Salary info'!A109:E2445,5,FALSE) -> #N/A | M109: =VLOOKUP(A109,'Salary info'!A109:F2445,6,FALSE) -> #N/A | N109: =VLOOKUP(A109,'Salary info'!A109:G2445,7,FALSE) -> #N/A
A110: 3500 | B110: Principal Project Director. | C110: Atlanta, GA | D110: 32727 | E110: M | F110: White (Not Hispanic or Latino) | G110: Fulltime | H110: 22100.924 | I110: E17.B | J110: =VLOOKUP(A110,'Salary info'!A110:C2446,3,FALSE) -> 106100 | K110: =VLOOKUP(A110,'Salary info'!A110:D2446,4,FALSE) -> 151600 | L110: =VLOOKUP(A110,'Salary info'!A110:E2446,5,FALSE) -> 197100 | M110: =VLOOKUP(A110,'Salary info'!A110:F2446,6,FALSE) -> Salaried | N110: =VLOOKUP(A110,'Salary info'!A110:G2446,7,FALSE) -> 147339.49
A111: 2623 | B111: Engineer I. | C111: Houston, TX | D111: 32738 | E111: F | F111: White (Not Hispanic or Latino) | G111: Fulltime | H111: 0 | I111: #N/A | J111: =VLOOKUP(A111,'Salary info'!A111:C2447,3,FALSE) -> #N/A | K111: =VLOOKUP(A111,'Salary info'!A111:D2447,4,FALSE) -> #N/A | L111: =VLOOKUP(A111,'Salary info'!A111:E2447,5,FALSE) -> #N/A | M111: =VLOOKUP(A111,'Salary info'!A111:F2447,6,FALSE) -> #N/A | N111: =VLOOKUP(A111,'Salary info'!A111:G2447,7,FALSE) -> #N/A
A112: 2160 | B112: Program Assistant III. | C112: Chipley, FL | D112: 32756 | E112: F | F112: White (Not Hispanic or Latino) | G112: Fulltime | H112: 0 | I112: N7.C | J112: =VLOOKUP(A112,'Salary info'!A112:C2448,3,FALSE) -> 31500 | K112: =VLOOKUP(A112,'Salary info'!A112:D2448,4,FALSE) -> 42000 | L112: =VLOOKUP(A112,'Salary info'!A112:E2448,5,FALSE) -> 52500 | M112: =VLOOKUP(A112,'Salary info'!A112:F2448,6,FALSE) -> Hourly | N112: =VLOOKUP(A112,'Salary info'!A112:G2448,7,FALSE) -> 17.16784
A113: 1712 | B113: Program Assistant III. | C113: Wesley Chapel, FL | D113: 32770 | E113: F | F113: White (Not Hispanic or Latino) | G113: Fulltime | H113: 0 | I113: N7.B | J113: =VLOOKUP(A113,'Salary info'!A113:C2449,3,FALSE) -> 30000 | K113: =VLOOKUP(A113,'Salary info'!A113:D2449,4,FALSE) -> 40000 | L113: =VLOOKUP(A113,'Salary info'!A113:E2449,5,FALSE) -> 50000 | M113: =VLOOKUP(A113,'Salary info'!A113:F2449,6,FALSE) -> Hourly | N113: =VLOOKUP(A113,'Salary info'!A113:G2449,7,FALSE) -> 19.52
A114: 802 | B114: Architect I. | C114: Los Angeles, CA | D114: 32804 | E114: M | F114: Hispanic or Latino | G114: Part-time | H114: 0 | I114: E10.E | J114: =VLOOKUP(A114,'Salary info'!A114:C2450,3,FALSE) -> 44500 | K114: =VLOOKUP(A114,'Salary info'!A114:D2450,4,FALSE) -> 63500 | L114: =VLOOKUP(A114,'Salary info'!A114:E2450,5,FALSE) -> 82600 | M114: =VLOOKUP(A114,'Salary info'!A114:F2450,6,FALSE) -> Hourly | N114: =VLOOKUP(A114,'Salary info'!A114:G2450,7,FALSE) -> 20.47648
A115: 774 | B115: Associate Construction Manager. | C115: Norman, OK | D115: 32843 | E115: F | F115: American Indian or Alaska Native (Not Hispanic or Latino) | G115: Fulltime | H115: 0 | I115: E12.A | J115: =VLOOKUP(A115,'Salary info'!A115:C2451,3,FALSE) -> 50700 | K115: =VLOOKUP(A115,'Salary info'!A115:D2451,4,FALSE) -> 72400 | L115: =VLOOKUP(A115,'Salary info'!A115:E2451,5,FALSE) -> 94100 | M115: =VLOOKUP(A115,'Salary info'!A115:F2451,6,FALSE) -> Salaried | N115: =VLOOKUP(A115,'Salary info'!A115:G2451,7,FALSE) -> 63440
A116: 769 | B116: Sr Engineer I. | C116: Tampa, FL | D116: 32875 | E116: F | F116: Hispanic or Latino | G116: Fulltime | H116: 0 | I116: E12.B | J116: =VLOOKUP(A116,'Salary info'!A116:C2452,3,FALSE) -> 53300 | K116: =VLOOKUP(A116,'Salary info'!A116:D2452,4,FALSE) -> 76200 | L116: =VLOOKUP(A116,'Salary info'!A116:E2452,5,FALSE) -> 99100 | M116: =VLOOKUP(A116,'Salary info'!A116:F2452,6,FALSE) -> Salaried | N116: =VLOOKUP(A116,'Salary info'!A116:G2452,7,FALSE) -> 66368
A117: 3496 | B117: Superintendent. | C117: Tallahassee, FL | D117: 32888 | E117: M | F117: White (Not Hispanic or Latino) | G117: Fulltime | H117: 0 | I117: E14.C | J117: =VLOOKUP(A117,'Salary info'!A117:C2453,3,FALSE) -> 67300 | K117: =VLOOKUP(A117,'Salary info'!A117:D2453,4,FALSE) -> 96100 | L117: =VLOOKUP(A117,'Salary info'!A117:E2453,5,FALSE) -> 124900 | M117: =VLOOKUP(A117,'Salary info'!A117:F2453,6,FALSE) -> Salaried | N117: =VLOOKUP(A117,'Salary info'!A117:G2453,7,FALSE) -> 85264.629
A118: 3055 | B118: Associate Construction Manager. | C118: Atlanta, GA | D118: 32905 | E118: M | F118: White (Not Hispanic or Latino) | G118: Fulltime | H118: 0 | I118: E12.B | J118: =VLOOKUP(A118,'Salary info'!A118:C2454,3,FALSE) -> 53300 | K118: =VLOOKUP(A118,'Salary info'!A118:D2454,4,FALSE) -> 76200 | L118: =VLOOKUP(A118,'Salary info'!A118:E2454,5,FALSE) -> 99100 | M118: =VLOOKUP(A118,'Salary info'!A118:F2454,6,FALSE) -> Salaried | N118: =VLOOKUP(A118,'Salary info'!A118:G2454,7,FALSE) -> 77779.978
A119: 3461 | B119: Sr Planner II. | C119: Metairie, LA | D119: 32905 | E119: M | F119: White (Not Hispanic or Latino) | G119: Fulltime | H119: 0 | I119: E14.B | J119: =VLOOKUP(A119,'Salary info'!A119:C2455,3,FALSE) -> 64100 | K119: =VLOOKUP(A119,'Salary info'!A119:D2455,4,FALSE) -> 91500 | L119: =VLOOKUP(A119,'Salary info'!A119:E2455,5,FALSE) -> 119000 | M119: =VLOOKUP(A119,'Salary info'!A119:F2455,6,FALSE) -> Salaried | N119: =VLOOKUP(A119,'Salary info'!A119:G2455,7,FALSE) -> 90270
A120: 3005 | B120: Group Manager. | C120: Tampa, FL | D120: 32909 | E120: M | F120: White (Not Hispanic or Latino) | G120: Part-time | H120: 0 | I120: E15.B | J120: =VLOOKUP(A120,'Salary info'!A120:C2456,3,FALSE) -> 76900 | K120: =VLOOKUP(A120,'Salary info'!A120:D2456,4,FALSE) -> 109800 | L120: =VLOOKUP(A120,'Salary info'!A120:E2456,5,FALSE) -> 142700 | M120: =VLOOKUP(A120,'Salary info'!A120:F2456,6,FALSE) -> Hourly | N120: =VLOOKUP(A120,'Salary info'!A120:G2456,7,FALSE) -> 53.96304
A121: 2620 | B121: Associate Construction Manager. | C121: Atlanta, GA | D121: 32965 | E121: M | F121: Black or African American (Not Hispanic or Latino) | G121: Fulltime | H121: 0 | I121: E12.B | J121: =VLOOKUP(A121,'Salary info'!A121:C2457,3,FALSE) -> 53300 | K121: =VLOOKUP(A121,'Salary info'!A121:D2457,4,FALSE) -> 76200 | L121: =VLOOKUP(A121,'Salary info'!A121:E2457,5,FALSE) -> 99100 | M121: =VLOOKUP(A121,'Salary info'!A121:F2457,6,FALSE) -> Salaried | N121: =VLOOKUP(A121,'Salary info'!A121:G2457,7,FALSE) -> 75229.814
A122: 3495 | B122: Field Technician II. | C122: Tyler, TX | D122: 33070 | E122: M | F122: White (Not Hispanic or Latino) | G122: Part-time | H122: 0 | I122: N7.A | J122: =VLOOKUP(A122,'Salary info'!A122:C2458,3,FALSE) -> 28500 | K122: =VLOOKUP(A122,'Salary info'!A122:D2458,4,FALSE) -> 38000 | L122: =VLOOKUP(A122,'Salary info'!A122:E2458,5,FALSE) -> 47500 | M122: =VLOOKUP(A122,'Salary info'!A122:F2458,6,FALSE) -> Hourly | N122: =VLOOKUP(A122,'Salary info'!A122:G2458,7,FALSE) -> 17.54604
A123: 3460 | B123: Technician I. | C123: Ft. Lauderdale, FL | D123: 33112 | E123: F | F123: Hispanic or Latino | G123: Fulltime | H123: 0 | I123: N7.D | J123: =VLOOKUP(A123,'Salary info'!A123:C2459,3,FALSE) -> 34500 | K123: =VLOOKUP(A123,'Salary info'!A123:D2459,4,FALSE) -> 46000 | L123: =VLOOKUP(A123,'Salary info'!A123:E2459,5,FALSE) -> 57500 | M123: =VLOOKUP(A123,'Salary info'!A123:F2459,6,FALSE) -> Hourly | N123: =VLOOKUP(A123,'Salary info'!A123:G2459,7,FALSE) -> 19.53844
... A126: 2131 | B126: Sr Engineer I. | C126: Norman, OK | D126: 33210 | E126: M | F126: White (Not Hispanic or Latino) | G126: Part-time | H126: 0 | I126: E12.A | J126: =VLOOKUP(A126,'Salary info'!A126:C2462,3,FALSE) -> 50700 | K126: =VLOOKUP(A126,'Salary info'!A126:D2462,4,FALSE) -> 72400 | L126: =VLOOKUP(A126,'Salary info'!A126:E2462,5,FALSE) -> 94100 | M126: =VLOOKUP(A126,'Salary info'!A126:F2462,6,FALSE) -> Hourly | N126: =VLOOKUP(A126,'Salary info'!A126:G2462,7,FALSE) -> 37.8505
A127: 2123 | B127: Engineer I. | C127: Tampa, FL | D127: 33233 | E127: F | F127: Hispanic or Latino | G127: Fulltime | H127: 0 | I127: #N/A | J127: =VLOOKUP(A127,'Salary info'!A127:C2463,3,FALSE) -> #N/A | K127: =VLOOKUP(A127,'Salary info'!A127:D2463,4,FALSE) -> #N/A | L127: =VLOOKUP(A127,'Salary info'!A127:E2463,5,FALSE) -> #N/A | M127: =VLOOKUP(A127,'Salary info'!A127:F2463,6,FALSE) -> #N/A | N127: =VLOOKUP(A127,'Salary info'!A127:G2463,7,FALSE) -> #N/A
A128: 2159 | B128: Associate Construction Manager. | C128: Calverton, MD | D128: 33245 | E128: M | F128: White (Not Hispanic or Latino) | G128: Fulltime | H128: 0 | I128: E12.D | J128: =VLOOKUP(A128,'Salary info'!A128:C2464,3,FALSE) -> 61300 | K128: =VLOOKUP(A128,'Salary info'!A128:D2464,4,FALSE) -> 87600 | L128: =VLOOKUP(A128,'Salary info'!A128:E2464,5,FALSE) -> 113900 | M128: =VLOOKUP(A128,'Salary info'!A128:F2464,6,FALSE) -> Salaried | N128: =VLOOKUP(A128,'Salary info'!A128:G2464,7,FALSE) -> 70272
A129: 2619 | B129: Sr Estimator/Scheduler I. | C129: Lake City, FL | D129: 33359 | E129: M | F129: White (Not Hispanic or Latino) | G129: Part-time | H129: 0 | I129: E12.B | J129: =VLOOKUP(A129,'Salary info'!A129:C2465,3,FALSE) -> 53300 | K129: =VLOOKUP(A129,'Salary info'!A129:D2465,4,FALSE) -> 76200 | L129: =VLOOKUP(A129,'Salary info'!A129:E2465,5,FALSE) -> 99100 | M129: =VLOOKUP(A129,'Salary info'!A129:F2465,6,FALSE) -> Hourly | N129: =VLOOKUP(A129,'Salary info'!A129:G2465,7,FALSE) -> 31.093
A130: 772 | B130: Receptionist I. | C130: Dallas, TX | D130: 33371 | E130: M | F130: White (Not Hispanic or Latino) | G130: Part-time | H130: 0 | I130: N4.B | J130: =VLOOKUP(A130,'Salary info'!A130:C2466,3,FALSE) -> 22600 | K130: =VLOOKUP(A130,'Salary info'!A130:D2466,4,FALSE) -> 30100 | L130: =VLOOKUP(A130,'Salary info'!A130:E2466,5,FALSE) -> 37600 | M130: =VLOOKUP(A130,'Salary info'!A130:F2466,6,FALSE) -> Hourly | N130: =VLOOKUP(A130,'Salary info'!A130:G2466,7,FALSE) -> 14.6888
A131: 3018 | B131: Technical Intern II. | C131: Orlando, FL | D131: 33448 | E131: M | F131: White (Not Hispanic or Latino) | G131: Part-time | H131: 0 | I131: N6.B | J131: =VLOOKUP(A131,'Salary info'!A131:C2467,3,FALSE) -> 27300 | K131: =VLOOKUP(A131,'Salary info'!A131:D2467,4,FALSE) -> 36400 | L131: =VLOOKUP(A131,'Salary info'!A131:E2467,5,FALSE) -> 45500 | M131: =VLOOKUP(A131,'Salary info'!A131:F2467,6,FALSE) -> Hourly | N131: =VLOOKUP(A131,'Salary info'!A131:G2467,7,FALSE) -> 19.057
A132: 2158 | B132: Sr Field Representative I. | C132: Phoenix, AZ | D132: 33448 | E132: M | F132: White (Not Hispanic or Latino) | G132: Part-time | H132: 0 | I132: N10.B | J132: =VLOOKUP(A132,'Salary info'!A132:C2468,3,FALSE) -> 43600 | K132: =VLOOKUP(A132,'Salary info'!A132:D2468,4,FALSE) -> 58100 | L132: =VLOOKUP(A132,'Salary info'!A132:E2468,5,FALSE) -> 72600 | M132: =VLOOKUP(A132,'Salary info'!A132:F2468,6,FALSE) -> Hourly | N132: =VLOOKUP(A132,'Salary info'!A132:G2468,7,FALSE) -> 27.89343
A133: 3455 | B133: Landscape Architect II. | C133: Henderson, NV | D133: 33560 | E133: M | F133: White (Not Hispanic or Latino) | G133: Part-time | H133: 0 | I133: E11.B | J133: =VLOOKUP(A133,'Salary info'!A133:C2469,3,FALSE) -> 44500 | K133: =VLOOKUP(A133,'Salary info'!A133:D2469,4,FALSE) -> 63500 | L133: =VLOOKUP(A133,'Salary info'!A133:E2469,5,FALSE) -> 82600 | M133: =VLOOKUP(A133,'Salary info'!A133:F2469,6,FALSE) -> Hourly | N133: =VLOOKUP(A133,'Salary info'!A133:G2469,7,FALSE) -> 28.084
A134: 1716 | B134: Superintendent. | C134: Atlanta, GA | D134: 33672 | E134: M | F134: White (Not Hispanic or Latino) | G134: Fulltime | H134: 0 | I134: E14.B | J134: =VLOOKUP(A134,'Salary info'!A134:C2470,3,FALSE) -> 64100 | K134: =VLOOKUP(A134,'Salary info'!A134:D2470,4,FALSE) -> 91500 | L134: =VLOOKUP(A134,'Salary info'!A134:E2470,5,FALSE) -> 119000 | M134: =VLOOKUP(A134,'Salary info'!A134:F2470,6,FALSE) -> Salaried | N134: =VLOOKUP(A134,'Salary info'!A134:G2470,7,FALSE) -> 82969.37
A135: 1711 | B135: GIS Analyst I. | C135: Calverton, MD | D135: 33735 | E135: F | F135: White (Not Hispanic or Latino) | G135: Fulltime | H135: 0 | I135: E10.D | J135: =VLOOKUP(A135,'Salary info'!A135:C2471,3,FALSE) -> 42600 | K135: =VLOOKUP(A135,'Salary info'!A135:D2471,4,FALSE) -> 60800 | L135: =VLOOKUP(A135,'Salary info'!A135:E2471,5,FALSE) -> 79000 | M135: =VLOOKUP(A135,'Salary info'!A135:F2471,6,FALSE) -> Salaried | N135: =VLOOKUP(A135,'Salary info'!A135:G2471,7,FALSE) -> 39117
A136: 350 | B136: Sr Engineer IV. | C136: Mendota Heights, MN | D136: 33784 | E136: M | F136: Asian (Not Hispanic or Latino) | G136: Fulltime | H136: 15140.2 | I136: E16.C | J136: =VLOOKUP(A136,'Salary info'!A136:C2472,3,FALSE) -> 96900 | K136: =VLOOKUP(A136,'Salary info'!A136:D2472,4,FALSE) -> 138400 | L136: =VLOOKUP(A136,'Salary info'!A136:E2472,5,FALSE) -> 179900 | M136: =VLOOKUP(A136,'Salary info'!A136:F2472,6,FALSE) -> Salaried | N136: =VLOOKUP(A136,'Salary info'!A136:G2472,7,FALSE) -> 151402
A137: 1701 | B137: Sr ROW Agent II. | C137: Reno, NV | D137: 33784 | E137: M | F137: Black or African American (Not Hispanic or Latino) | G137: Part-time | H137: 0 | I137: E14.B | J137: =VLOOKUP(A137,'Salary info'!A137:C2473,3,FALSE) -> 64100 | K137: =VLOOKUP(A137,'Salary info'!A137:D2473,4,FALSE) -> 91500 | L137: =VLOOKUP(A137,'Salary info'!A137:E2473,5,FALSE) -> 119000 | M137: =VLOOKUP(A137,'Salary info'!A137:F2473,6,FALSE) -> Hourly | N137: =VLOOKUP(A137,'Salary info'!A137:G2473,7,FALSE) -> 42.944
A138: 2157 | B138: Project Manager. | C138: Atlanta, GA | D138: 33786 | E138: M | F138: White (Not Hispanic or Latino) | G138: Fulltime | H138: 0 | I138: E14.B | J138: =VLOOKUP(A138,'Salary info'!A138:C2474,3,FALSE) -> 64100 | K138: =VLOOKUP(A138,'Salary info'!A138:D2474,4,FALSE) -> 91500 | L138: =VLOOKUP(A138,'Salary info'!A138:E2474,5,FALSE) -> 119000 | M138: =VLOOKUP(A138,'Salary info'!A138:F2474,6,FALSE) -> Salaried | N138: =VLOOKUP(A138,'Salary info'!A138:G2474,7,FALSE) -> 80240
A139: 3010 | B139: Planner I. | C139: Raleigh, NC | D139: 33800 | E139: F | F139: Two or More Races (Not Hispanic or Latino) | G139: Fulltime | H139: 0 | I139: #N/A | J139: =VLOOKUP(A139,'Salary info'!A139:C2475,3,FALSE) -> #N/A | K139: =VLOOKUP(A139,'Salary info'!A139:D2475,4,FALSE) -> #N/A | L139: =VLOOKUP(A139,'Salary info'!A139:E2475,5,FALSE) -> #N/A | M139: =VLOOKUP(A139,'Salary info'!A139:F2475,6,FALSE) -> #N/A | N139: =VLOOKUP(A139,'Salary info'!A139:G2475,7,FALSE) -> #N/A
A140: 2156 | B140: Technical Intern I. | C140: Atlanta, GA | D140: 33884 | E140: M | F140: White (Not Hispanic or Latino) | G140: Part-time | H140: 0 | I140: N4.B | J140: =VLOOKUP(A140,'Salary info'!A140:C2476,3,FALSE) -> 22600 | K140: =VLOOKUP(A140,'Salary info'!A140:D2476,4,FALSE) -> 30100 | L140: =VLOOKUP(A140,'Salary info'!A140:E2476,5,FALSE) -> 37600 | M140: =VLOOKUP(A140,'Salary info'!A140:F2476,6,FALSE) -> Hourly | N140: =VLOOKUP(A140,'Salary info'!A140:G2476,7,FALSE) -> 11.224
A141: 1740 | B141: GIS Analyst I. | C141: Calverton, MD | D141: 33893 | E141: F | F141: White (Not Hispanic or Latino) | G141: Fulltime | H141: 0 | I141: E10.D | J141: =VLOOKUP(A141,'Salary info'!A141:C2477,3,FALSE) -> 42600 | K141: =VLOOKUP(A141,'Salary info'!A141:D2477,4,FALSE) -> 60800 | L141: =VLOOKUP(A141,'Salary info'!A141:E2477,5,FALSE) -> 79000 | M141: =VLOOKUP(A141,'Salary info'!A141:F2477,6,FALSE) -> Salaried | N141: =VLOOKUP(A141,'Salary info'!A141:G2477,7,FALSE) -> 40796.8
A142: 1246 | B142: Technical Intern II. | C142: Henderson, NV | D142: 33903 | E142: M | F142: Asian (Not Hispanic or Latino) | G142: Part-time | H142: 0 | I142: N6.B | J142: =VLOOKUP(A142,'Salary info'!A142:C2478,3,FALSE) -> 27300 | K142: =VLOOKUP(A142,'Salary info'!A142:D2478,4,FALSE) -> 36400 | L142: =VLOOKUP(A142,'Salary info'!A142:E2478,5,FALSE) -> 45500 | M142: =VLOOKUP(A142,'Salary info'!A142:F2478,6,FALSE) -> Hourly | N142: =VLOOKUP(A142,'Salary info'!A142:G2478,7,FALSE) -> 17.051
A143: 3492 | B143: Sr Planner IV. | C143: Atlanta, GA | D143: 33917 | E143: M | F143: White (Not Hispanic or Latino) | G143: Fulltime | H143: 17630.991 | I143: E16.B | J143: =VLOOKUP(A143,'Salary info'!A143:C2479,3,FALSE) -> 92300 | K143: =VLOOKUP(A143,'Salary info'!A143:D2479,4,FALSE) -> 131800 | L143: =VLOOKUP(A143,'Salary info'!A143:E2479,5,FALSE) -> 171300 | M143: =VLOOKUP(A143,'Salary info'!A143:F2479,6,FALSE) -> Salaried | N143: =VLOOKUP(A143,'Salary info'!A143:G2479,7,FALSE) -> 176309.91
A144: 2615 | B144: Sr GIS Analyst I. | C144: West Palm Beach, FL | D144: 33973 | E144: F | F144: White (Not Hispanic or Latino) | G144: Fulltime | H144: 0 | I144: E12.D | J144: =VLOOKUP(A144,'Salary info'!A144:C2480,3,FALSE) -> 61300 | K144: =VLOOKUP(A144,'Salary info'!A144:D2480,4,FALSE) -> 87600 | L144: =VLOOKUP(A144,'Salary info'!A144:E2480,5,FALSE) -> 113900 | M144: =VLOOKUP(A144,'Salary info'!A144:F2480,6,FALSE) -> Salaried | N144: =VLOOKUP(A144,'Salary info'!A144:G2480,7,FALSE) -> 62691.512
A145: 3054 | B145: Sr Program Manager. | C145: Bozeman, MT | D145: 33973 | E145: M | F145: White (Not Hispanic or Latino) | G145: Part-time | H145: 0 | I145: E16.C | J145: =VLOOKUP(A145,'Salary info'!A145:C2481,3,FALSE) -> 96900 | K145: =VLOOKUP(A145,'Salary info'!A145:D2481,4,FALSE) -> 138400 | L145: =VLOOKUP(A145,'Salary info'!A145:E2481,5,FALSE) -> 179900 | M145: =VLOOKUP(A145,'Salary info'!A145:F2481,6,FALSE) -> Hourly | N145: =VLOOKUP(A145,'Salary info'!A145:G2481,7,FALSE) -> 48.8
A146: 1245 | B146: Sr Practice Manager | C146: Atlanta, GA | D146: 33974 | E146: M | F146: White (Not Hispanic or Latino) | G146: Fulltime | H146: 31623.571 | I146: E17.B | J146: =VLOOKUP(A146,'Salary info'!A146:C2482,3,FALSE) -> 106100 | K146: =VLOOKUP(A146,'Salary info'!A146:D2482,4,FALSE) -> 151600 | L146: =VLOOKUP(A146,'Salary info'!A146:E2482,5,FALSE) -> 197100 | M146: =VLOOKUP(A146,'Salary info'!A146:F2482,6,FALSE) -> Salaried | N146: =VLOOKUP(A146,'Salary info'!A146:G2482,7,FALSE) -> 210823.81
A147: 1244 | B147: Superintendent. | C147: Atlanta, GA | D147: 33976 | E147: M | F147: White (Not Hispanic or Latino) | G147: Fulltime | H147: 0 | I147: E14.B | J147: =VLOOKUP(A147,'Salary info'!A147:C2483,3,FALSE) -> 64100 | K147: =VLOOKUP(A147,'Salary info'!A147:D2483,4,FALSE) -> 91500 | L147: =VLOOKUP(A147,'Salary info'!A147:E2483,5,FALSE) -> 119000 | M147: =VLOOKUP(A147,'Salary info'!A147:F2483,6,FALSE) -> Salaried | N147: =VLOOKUP(A147,'Salary info'!A147:G2483,7,FALSE) -> 88154.955
A148: 799 | B148: Engineer II. | C148: Atlanta, GA | D148: 34022 | E148: F | F148: White (Not Hispanic or Latino) | G148: Fulltime | H148: 0 | I148: E11.B | J148: =VLOOKUP(A148,'Salary info'!A148:C2484,3,FALSE) -> 44500 | K148: =VLOOKUP(A148,'Salary info'!A148:D2484,4,FALSE) -> 63500 | L148: =VLOOKUP(A148,'Salary info'!A148:E2484,5,FALSE) -> 82600 | M148: =VLOOKUP(A148,'Salary info'!A148:F2484,6,FALSE) -> Salaried | N148: =VLOOKUP(A148,'Salary info'!A148:G2484,7,FALSE) -> 59627.5
A149: 784 | B149: Sr CAD Technician II. | C149: Miami, FL | D149: 34029 | E149: M | F149: Hispanic or Latino | G149: Part-time | H149: 0 | I149: N10.D | J149: =VLOOKUP(A149,'Salary info'!A149:C2485,3,FALSE) -> 50100 | K149: =VLOOKUP(A149,'Salary info'!A149:D2485,4,FALSE) -> 66800 | L149: =VLOOKUP(A149,'Salary info'!A149:E2485,5,FALSE) -> 83500 | M149: =VLOOKUP(A149,'Salary info'!A149:F2485,6,FALSE) -> Hourly | N149: =VLOOKUP(A149,'Salary info'!A149:G2485,7,FALSE) -> 33.75095
A150: 3490 | B150: Project Manager. | C150: Raleigh, NC | D150: 34050 | E150: M | F150: White (Not Hispanic or Latino) | G150: Fulltime | H150: 0 | I150: E14.B | J150: =VLOOKUP(A150,'Salary info'!A150:C2486,3,FALSE) -> 64100 | K150: =VLOOKUP(A150,'Salary info'!A150:D2486,4,FALSE) -> 91500 | L150: =VLOOKUP(A150,'Salary info'!A150:E2486,5,FALSE) -> 119000 | M150: =VLOOKUP(A150,'Salary info'!A150:F2486,6,FALSE) -> Salaried | N150: =VLOOKUP(A150,'Salary info'!A150:G2486,7,FALSE) -> 65392
...

Sheet Salary info
A1: ID | B1: Salary Grade | C1: Grade Min | D1: Grade Mid | E1: Grade Max | F1: Pay Basis | G1: Current Salary
A2: 2959 | B2: E10.A | C2: 35200 | D2: 50300 | E2: 65400 | F2: Salaried | G2: 36602.342
A3: 3501 | B3: E10.A | C3: 35200 | D3: 50300 | E3: 65400 | F3: Salaried | G3: 41791.1
A4: 2121 | B4: E10.A | C4: 35200 | D4: 50300 | E4: 65400 | F4: Salaried | G4: 43554
A5: 221 | B5: E10.A | C5: 35200 | D5: 50300 | E5: 65400 | F5: Salaried | G5: 45102.034
A6: 3416 | B6: E10.A | C6: 35200 | D6: 50300 | E6: 65400 | F6: Salaried | G6: 45148.979
A7: 2233 | B7: E10.A | C7: 35200 | D7: 50300 | E7: 65400 | F7: Salaried | G7: 46848
A8: 642 | B8: E10.A | C8: 35200 | D8: 50300 | E8: 65400 | F8: Salaried | G8: 48721.725
A9: 2623 | B9: E10.A | C9: 35200 | D9: 50300 | E9: 65400 | F9: Salaried | G9: 50150
A10: 2453 | B10: E10.A | C10: 35200 | D10: 50300 | E10: 65400 | F10: Salaried | G10: 53363.19
A11: 2976 | B11: E10.A | C11: 35200 | D11: 50300 | E11: 65400 | F11: Salaried | G11: 52156
A12: 294 | B12: E10.A | C12: 35200 | D12: 50300 | E12: 65400 | F12: Salaried | G12: 52538.47
A13: 226 | B13: E10.A | C13: 35200 | D13: 50300 | E13: 65400 | F13: Salaried | G13: 56620.2
... A2338: 2464 | B2338: N9.D | C2338: 41800 | D2338: 55700 | E2338: 69600 | F2338: Hourly | G2338: 28.80786

Sheet Bonus Info
A1: ID | B1: Bonus Amt
A2: 1 | B2: 0
A3: 3 | B3: 0
A4: 4 | B4: 0
A5: 5 | B5: 0
A6: 6 | B6: 0
A7: 10 | B7: 0
A8: 11 | B8: 0
A9: 13 | B9: 0
A10: 15 | B10: 0
A11: 17 | B11: 14061.72
A12: 18 | B12: 0
A13: 22 | B13: 0
... A2338: 3581 | B2338: 0

Sheet Combined Data Worksheet
A1: Copied from DEMO | B1: From DEMO | C1: FROM JOB DATA | D1: FROM SALARY info | F1: From Demographics | G1: From Bonus Info | H1: Current Salary+Bonus | I1: Calculation (convert salary to hourly)
A2: ID | B2: Gender | C2: Job Name | D2: Pay Basis | E2: Current Salary | F2: Assignment Category | G2: Bonus Amt | H2: Total Salary | I2: Converted PAY
A3: 2064 | B3: =VLOOKUP(A3,Demographics!$A$1:$D$2338,2,FALSE) -> M | C3: - | D3: Salaried | E3: 255138.17 | F3: - | G3: 25513.817 | H3: 280651.99 | I3: 134.92884
A4: 1025 | B4: =VLOOKUP(A4,Demographics!$A$1:$D$2338,2,FALSE) -> M | C4: Operations Director | D4: Salaried | E4: 219600 | F4: - | G4: 54900 | H4: 274500 | I4: 131.97115
A5: 1525 | B5: =VLOOKUP(A5,Demographics!$A$1:$D$2338,2,FALSE) -> M | C5: Business Sector Manager | D5: Salaried | E5: 222666 | F5: - | G5: 44533.2 | H5: 267199.2 | I5: 128.46115
A6: 2814 | B6: =VLOOKUP(A6,Demographics!$A$1:$D$2338,2,FALSE) -> M | C6: - | D6: Salaried | E6: 217770.21 | F6: - | G6: 43554.041 | H6: 261324.25 | I6: 125.63666
A7: 2755 | B7: =VLOOKUP(A7,Demographics!$A$1:$D$2338,2,FALSE) -> M | C7: Business Sector Manager | D7: Salaried | E7: 210630.2 | F7: - | G7: 42126.04 | H7: 252756.24 | I7: 121.51742
A8: 2742 | B8: =VLOOKUP(A8,Demographics!$A$1:$D$2338,2,FALSE) -> M | C8: - | D8: Salaried | E8: 205615 | F8: - | G8: 41123 | H8: 246738 | I8: 118.62404
A9: 50 | B9: =VLOOKUP(A9,Demographics!$A$1:$D$2338,2,FALSE) -> M | C9: Business Sector Manager | D9: Salaried | E9: 204960 | F9: - | G9: 40992 | H9: 245952 | I9: 118.24615
A10: 1245 | B10: =VLOOKUP(A10,Demographics!$A$1:$D$2338,2,FALSE) -> M | C10: - | D10: Salaried | E10: 210823.81 | F10: - | G10: 31623.571 | H10: 242447.38 | I10: 116.56124
A11: 25 | B11: =VLOOKUP(A11,Demographics!$A$1:$D$2338,2,FALSE) -> M | C11: Business Sector Manager | D11: Salaried | E11: 200600 | F11: - | G11: 40120 | H11: 240720 | I11: 115.73077
A12: 2247 | B12: =VLOOKUP(A12,Demographics!$A$1:$D$2338,2,FALSE) -> M | C12: - | D12: Salaried | E12: 204960 | F12: - | G12: 30744 | H12: 235704 | I12: 113.31923
A13: 955 | B13: =VLOOKUP(A13,Demographics!$A$1:$D$2338,2,FALSE) -> M | C13: Sr Practice Manager | D13: Salaried | E13: 204156.26 | F13: - | G13: 30623.44 | H13: 234779.7 | I13: 112.87486
A14: 2809 | B14: =VLOOKUP(A14,Demographics!$A$1:$D$2338,2,FALSE) -> M | C14: - | D14: Salaried | E14: 200187.46 | F14: - | G14: 30028.119 | H14: 230215.58 | I14: 110.68057
... A1189: 880 | B1189: =VLOOKUP(A1189,Demographics!$A$1:$D$2338,2,FALSE) -> M | C1189: - | D1189: Hourly | E1189: 8.784 | F1189: Part-time | G1189: 0 | H1189: 8.784 | I1189: 0.0042230769
A1190: 80 | B1190: =VLOOKUP(A1190,Demographics!$A$1:$D$2338,2,FALSE) -> F | C1190: Engineer I. | D1190: - | E1190: - | F1190: - | G1190: 0 | H1190: 0 | I1190: 0
A1191: 185 | B1191: =VLOOKUP(A1191,Demographics!$A$1:$D$2338,2,FALSE) -> F | C1191: Operations Coordinator I. | D1191: - | E1191: - | F1191: - | G1191: 0 | H1191: 0 | I1191: 0
A1192: 196 | B1192: =VLOOKUP(A1192,Demographics!$A$1:$D$2338,2,FALSE) -> F | C1192: Construction Management Representative I | D1192: - | E1192: - | F1192: - | G1192: 0 | H1192: 0 | I1192: 0
A1193: 206 | B1193: =VLOOKUP(A1193,Demographics!$A$1:$D$2338,2,FALSE) -> F | C1193: Proposal Coordinator I. | D1193: - | E1193: - | F1193: - | G1193: 0 | H1193: 0 | I1193: 0
A1194: 221 | B1194: =VLOOKUP(A1194,Demographics!$A$1:$D$2338,2,FALSE) -> F | C1194: Proposal Coordinator I. | D1194: - | E1194: - | F1194: - | G1194: 0 | H1194: 0 | I1194: 0
A1195: 226 | B1195: =VLOOKUP(A1195,Demographics!$A$1:$D$2338,2,FALSE) -> F | C1195: Operations Coordinator I. | D1195: - | E1195: - | F1195: - | G1195: 0 | H1195: 0 | I1195: 0
A1196: 240 | B1196: =VLOOKUP(A1196,Demographics!$A$1:$D$2338,2,FALSE) -> F | C1196: Engineer I. | D1196: - | E1196: - | F1196: - | G1196: 0 | H1196: 0 | I1196: 0
A1197: 248 | B1197: =VLOOKUP(A1197,Demographics!$A$1:$D$2338,2,FALSE) -> F | C1197: Engineer I. | D1197: - | E1197: - | F1197: - | G1197: 0 | H1197: 0 | I1197: 0
A1198: 256 | B1198: =VLOOKUP(A1198,Demographics!$A$1:$D$2338,2,FALSE) -> M | C1198: Engineer I. | D1198: - | E1198: - | F1198: Part-time | G1198: 0 | H1198: 0 | I1198: 0
A1199: 274 | B1199: =VLOOKUP(A1199,Demographics!$A$1:$D$2338,2,FALSE) -> F | C1199: Proposal Coordinator I. | D1199: - | E1199: - | F1199: - | G1199: 0 | H1199: 0 | I1199: 0
A1200: 276 | B1200: =VLOOKUP(A1200,Demographics!$A$1:$D$2338,2,FALSE) -> M | C1200: Engineer II. | D1200: - | E1200: - | F1200: - | G1200: 0 | H1200: 0 | I1200: 0
A1201: 277 | B1201: =VLOOKUP(A1201,Demographics!$A$1:$D$2338,2,FALSE) -> F | C1201: Scientist I. | D1201: - | E1201: - | F1201: - | G1201: 0 | H1201: 0 | I1201: 0
... A2339: 3581 | B2339: =VLOOKUP(A2339,Demographics!$A$1:$D$2338,2,FALSE) -> M | C2339: - | D2339: - | E2339: - | F2339: - | G2339: 0 | H2339: 0 | I2339: 0

Sheet PAY EQUITY WORK SHEET
B1: POSITION 1 | E1: POSITION 2 | H1: POSITION 3 | K1: POSITION 4 | N1: POSITION 5
B3: M | C3: F | E3: M | F3: F | H3: M | I3: F | K3: M | L3: F | N3: M | O3: F
A4: Avg Salary | B4: 173.24197 | C4: 93.080657 | E4: 169.44444 | F4: 92.625939 | H4: 164.93778 | I4: 92.563459 | K4: 161.31126 | L4: 92.505607 | N4: 156.02237 | O4: 92.108625
A6: Overall Average
B8: T.TEST
B9: less than .05?
B10: -if YES, there is a significant difference between Male and female
B11: -if NO, there is NOT a significant difference between Male and female
A13: PASTE RAW DATA HERE:
B14: M | C14: F | E14: M | F14: F | H14: M | I14: F | K14: M | L14: F | N14: M | O14: F
B15: 280651.99 | C15: 66738.831 | E15: 274500 | F15: 66412.798 | H15: 267199.2 | I15: 66368 | K15: 261324.25 | L15: 66326.52 | N15: 252756.24 | O15: 66041.884

Sheet Summary Table
C3: Average Pay | G3: Statistical Diff
B4: Position | C4: Overall | D4: Male | E4: Female | G4: P-value | H4: Yes/No
B5: Position 1 | C5: 4
B6: Position 2
B7: Position 3
B8: Position 4
B9: Position 5
