Workbook

Sheet Demographics
A1: ID | B1: Gender | C1: Ethnic Group | D1: Assignment Category
A2: 1 | B2: F | C2: White (Not Hispanic or Latino) | D2: Fulltime
A3: 3 | B3: F | C3: White (Not Hispanic or Latino) | D3: Fulltime
A4: 4 | B4: M | C4: Asian (Not Hispanic or Latino) | D4: Fulltime
A5: 5 | B5: F | C5: White (Not Hispanic or Latino) | D5: Fulltime
A6: 6 | B6: F | C6: Hispanic or Latino | D6: Fulltime
A7: 10 | B7: M | C7: White (Not Hispanic or Latino) | D7: Fulltime
A8: 11 | B8: M | C8: White (Not Hispanic or Latino) | D8: Fulltime
A9: 13 | B9: M | C9: Hispanic or Latino | D9: Fulltime
A10: 17 | B10: M | C10: Hispanic or Latino | D10: Fulltime
A11: 18 | B11: M | C11: White (Not Hispanic or Latino) | D11: Fulltime
A12: 22 | B12: M | C12: White (Not Hispanic or Latino) | D12: Fulltime
A13: 24 | B13: M | C13: White (Not Hispanic or Latino) | D13: Fulltime
... A2338: 3578 | B2338: M | C2338: Hispanic or Latino | D2338: Part-time

Sheet Job Data
A1: ID | B1: Job Name | C1: Location | D1: Last Hire Date | E1: Gender | F1: Ethnic Group | G1: Assignment Category | H1: Bonus Info | I1: Salary Grade | J1: Grade Min | K1: Grade Mid | L1: Grade Max | M1: Pay Basis | N1: Current Salary
A2: 2243 | B2: Sr Scientist I. | C2: Raleigh, NC | D2: 25472 | E2: M | F2: White (Not Hispanic or Latino) | G2: Fulltime | H2: 0 | I2: E12.B | J2: =VLOOKUP(A2,'Salary info'!A2:C2338,3,FALSE) -> 53300 | K2: =VLOOKUP(A2,'Salary info'!A2:D2338,4,FALSE) -> 76200 | L2: =VLOOKUP(A2,'Salary info'!A2:E2338,5,FALSE) -> 99100 | M2: =VLOOKUP(A2,'Salary info'!A2:F2338,6,FALSE) -> Salaried | N2: =VLOOKUP(A2,'Salary info'!A2:G2338,7,FALSE) -> 69997.5
A3: 2242 | B3: CAD Technician I. | C3: Tampa, FL | D3: 26816 | E3: M | F3: White (Not Hispanic or Latino) | G3: Part-time | H3: 0 | I3: N7.B | J3: =VLOOKUP(A3,'Salary info'!A3:C2339,3,FALSE) -> 30000 | K3: =VLOOKUP(A3,'Salary info'!A3:D2339,4,FALSE) -> 40000 | L3: =VLOOKUP(A3,'Salary info'!A3:E2339,5,FALSE) -> 50000 | M3: =VLOOKUP(A3,'Salary info'!A3:F2339,6,FALSE) -> Hourly | N3: =VLOOKUP(A3,'Salary info'!A3:G2339,7,FALSE) -> 16.048
A4: 1331 | B4: Proposal Coordinator II. | C4: Dallas, TX | D4: 27050 | E4: F | F4: Black or African American (Not Hispanic or Latino) | G4: Fulltime | H4: 0 | I4: E11.B | J4: =VLOOKUP(A4,'Salary info'!A4:C2340,3,FALSE) -> 44500 | K4: =VLOOKUP(A4,'Salary info'!A4:D2340,4,FALSE) -> 63500 | L4: =VLOOKUP(A4,'Salary info'!A4:E2340,5,FALSE) -> 82600 | M4: =VLOOKUP(A4,'Salary info'!A4:F2340,6,FALSE) -> Salaried | N4: =VLOOKUP(A4,'Salary info'!A4:G2340,7,FALSE) -> 57035
A5: 452 | B5: Operations Coordinator I. | C5: Orlando, FL | D5: 28408 | E5: F | F5: White (Not Hispanic or Latino) | G5: Fulltime | H5: 0 | I5: E10.B | J5: =VLOOKUP(A5,'Salary info'!A5:C2341,3,FALSE) -> 37000 | K5: =VLOOKUP(A5,'Salary info'!A5:D2341,4,FALSE) -> 52900 | L5: =VLOOKUP(A5,'Salary info'!A5:E2341,5,FALSE) -> 68800 | M5: =VLOOKUP(A5,'Salary info'!A5:F2341,6,FALSE) -> Salaried | N5: =VLOOKUP(A5,'Salary info'!A5:G2341,7,FALSE) -> 45135
A6: 3577 | B6: Engineer I. | C6: Henderson, NV | D6: 28464 | E6: F | F6: White (Not Hispanic or Latino) | G6: Fulltime | H6: 0 | I6: E10.B | J6: =VLOOKUP(A6,'Salary info'!A6:C2342,3,FALSE) -> 37000 | K6: =VLOOKUP(A6,'Salary info'!A6:D2342,4,FALSE) -> 52900 | L6: =VLOOKUP(A6,'Salary info'!A6:E2342,5,FALSE) -> 68800 | M6: =VLOOKUP(A6,'Salary info'!A6:F2342,6,FALSE) -> Salaried | N6: =VLOOKUP(A6,'Salary info'!A6:G2342,7,FALSE) -> 50150
A7: 3568 | B7: Sr Planner IV. | C7: Atlanta, GA | D7: 28522 | E7: M | F7: White (Not Hispanic or Latino) | G7: Part-time | H7: 0 | I7: E16.B | J7: =VLOOKUP(A7,'Salary info'!A7:C2343,3,FALSE) -> 92300 | K7: =VLOOKUP(A7,'Salary info'!A7:D2343,4,FALSE) -> 131800 | L7: =VLOOKUP(A7,'Salary info'!A7:E2343,5,FALSE) -> 171300 | M7: =VLOOKUP(A7,'Salary info'!A7:F2343,6,FALSE) -> Hourly | N7: =VLOOKUP(A7,'Salary info'!A7:G2343,7,FALSE) -> 155.55
A8: 3138 | B8: Sr Scientist III. | C8: Atlanta, GA | D8: 28534 | E8: M | F8: White (Not Hispanic or Latino) | G8: Fulltime | H8: 4666.5 | I8: E15.B | J8: =VLOOKUP(A8,'Salary info'!A8:C2344,3,FALSE) -> 76900 | K8: =VLOOKUP(A8,'Salary info'!A8:D2344,4,FALSE) -> 109800 | L8: =VLOOKUP(A8,'Salary info'!A8:E2344,5,FALSE) -> 142700 | M8: =VLOOKUP(A8,'Salary info'!A8:F2344,6,FALSE) -> Salaried | N8: =VLOOKUP(A8,'Salary info'!A8:G2344,7,FALSE) -> 93330
A9: 3135 | B9: Principal Project Director. | C9: Austin, TX | D9: 28590 | E9: M | F9: White (Not Hispanic or Latino) | G9: Fulltime | H9: 27081 | I9: E17.B | J9: =VLOOKUP(A9,'Salary info'!A9:C2345,3,FALSE) -> 106100 | K9: =VLOOKUP(A9,'Salary info'!A9:D2345,4,FALSE) -> 151600 | L9: =VLOOKUP(A9,'Salary info'!A9:E2345,5,FALSE) -> 197100 | M9: =VLOOKUP(A9,'Salary info'!A9:F2345,6,FALSE) -> Salaried | N9: =VLOOKUP(A9,'Salary info'!A9:G2345,7,FALSE) -> 180540
A10: 2701 | B10: Sr Engineer III. | C10: Miami, FL | D10: 28803 | E10: M | F10: Hispanic or Latino | G10: Fulltime | H10: 4636 | I10: E15.D | J10: =VLOOKUP(A10,'Salary info'!A10:C2346,3,FALSE) -> 88400 | K10: =VLOOKUP(A10,'Salary info'!A10:D2346,4,FALSE) -> 126300 | L10: =VLOOKUP(A10,'Salary info'!A10:E2346,5,FALSE) -> 164200 | M10: =VLOOKUP(A10,'Salary info'!A10:F2346,6,FALSE) -> Salaried | N10: =VLOOKUP(A10,'Salary info'!A10:G2346,7,FALSE) -> 92720
A11: 1801 | B11: Technical Intern I. | C11: Pensacola, FL | D11: 28915 | E11: M | F11: White (Not Hispanic or Latino) | G11: Part-time | H11: 0 | I11: N4.B | J11: =VLOOKUP(A11,'Salary info'!A11:C2347,3,FALSE) -> 22600 | K11: =VLOOKUP(A11,'Salary info'!A11:D2347,4,FALSE) -> 30100 | L11: =VLOOKUP(A11,'Salary info'!A11:E2347,5,FALSE) -> 37600 | M11: =VLOOKUP(A11,'Salary info'!A11:F2347,6,FALSE) -> Hourly | N11: =VLOOKUP(A11,'Salary info'!A11:G2347,7,FALSE) -> 10.97146
A12: 880 | B12: Administrative Trainee. | C12: Orlando, FL | D12: 29000 | E12: M | F12: White (Not Hispanic or Latino) | G12: Part-time | H12: 0 | I12: N1.B | J12: =VLOOKUP(A12,'Salary info'!A12:C2348,3,FALSE) -> 16900 | K12: =VLOOKUP(A12,'Salary info'!A12:D2348,4,FALSE) -> 22500 | L12: =VLOOKUP(A12,'Salary info'!A12:E2348,5,FALSE) -> 28100 | M12: =VLOOKUP(A12,'Salary info'!A12:F2348,6,FALSE) -> Hourly | N12: =VLOOKUP(A12,'Salary info'!A12:G2348,7,FALSE) -> 8.784
A13: 878 | B13: Sr Group Manager. | C13: Alexandria, VA (F+G) | D13: 29024 | E13: M | F13: White (Not Hispanic or Latino) | G13: Fulltime | H13: 19703 | I13: E16.D | J13: =VLOOKUP(A13,'Salary info'!A13:C2349,3,FALSE) -> 106100 | K13: =VLOOKUP(A13,'Salary info'!A13:D2349,4,FALSE) -> 151600 | L13: =VLOOKUP(A13,'Salary info'!A13:E2349,5,FALSE) -> 197100 | M13: =VLOOKUP(A13,'Salary info'!A13:F2349,6,FALSE) -> Salaried | N13: =VLOOKUP(A13,'Salary info'!A13:G2349,7,FALSE) -> 197030
... A43: 2699 | B43: Sr Scientist I. | C43: Jacksonville, FL | D43: 31126 | E43: M | F43: White (Not Hispanic or Latino) | G43: Part-time | H43: 0 | I43: E12.B | J43: =VLOOKUP(A43,'Salary info'!A43:C2379,3,FALSE) -> 53300 | K43: =VLOOKUP(A43,'Salary info'!A43:D2379,4,FALSE) -> 76200 | L43: =VLOOKUP(A43,'Salary info'!A43:E2379,5,FALSE) -> 99100 | M43: =VLOOKUP(A43,'Salary info'!A43:F2379,6,FALSE) -> Hourly | N43: =VLOOKUP(A43,'Salary info'!A43:G2379,7,FALSE) -> 37.332
A44: 1794 | B44: Scientist I. | C44: Raleigh, NC | D44: 31138 | E44: F | F44: White (Not Hispanic or Latino) | G44: Fulltime | H44: 0 | I44: #N/A | J44: =VLOOKUP(A44,'Salary info'!A44:C2380,3,FALSE) -> #N/A | K44: =VLOOKUP(A44,'Salary info'!A44:D2380,4,FALSE) -> #N/A | L44: =VLOOKUP(A44,'Salary info'!A44:E2380,5,FALSE) -> #N/A | M44: =VLOOKUP(A44,'Salary info'!A44:F2380,6,FALSE) -> #N/A | N44: =VLOOKUP(A44,'Salary info'!A44:G2380,7,FALSE) -> #N/A
A45: 2692 | B45: Sr Scientist I. | C45: Atlanta, GA | D45: 31208 | E45: M | F45: White (Not Hispanic or Latino) | G45: Fulltime | H45: 0 | I45: E12.B | J45: =VLOOKUP(A45,'Salary info'!A45:C2381,3,FALSE) -> 53300 | K45: =VLOOKUP(A45,'Salary info'!A45:D2381,4,FALSE) -> 76200 | L45: =VLOOKUP(A45,'Salary info'!A45:E2381,5,FALSE) -> 99100 | M45: =VLOOKUP(A45,'Salary info'!A45:F2381,6,FALSE) -> Salaried | N45: =VLOOKUP(A45,'Salary info'!A45:G2381,7,FALSE) -> 69479
A46: 459 | B46: Sr Planner II. | C46: Tallahassee, FL | D46: 31243 | E46: M | F46: White (Not Hispanic or Latino) | G46: Fulltime | H46: 0 | I46: E14.C | J46: =VLOOKUP(A46,'Salary info'!A46:C2382,3,FALSE) -> 67300 | K46: =VLOOKUP(A46,'Salary info'!A46:D2382,4,FALSE) -> 96100 | L46: =VLOOKUP(A46,'Salary info'!A46:E2382,5,FALSE) -> 124900 | M46: =VLOOKUP(A46,'Salary info'!A46:F2382,6,FALSE) -> Salaried | N46: =VLOOKUP(A46,'Salary info'!A46:G2382,7,FALSE) -> 80032
A47: 1798 | B47: Sr Scientist I. | C47: Newport News, VA | D47: 31243 | E47: M | F47: White (Not Hispanic or Latino) | G47: Part-time | H47: 0 | I47: E12.B | J47: =VLOOKUP(A47,'Salary info'!A47:C2383,3,FALSE) -> 53300 | K47: =VLOOKUP(A47,'Salary info'!A47:D2383,4,FALSE) -> 76200 | L47: =VLOOKUP(A47,'Salary info'!A47:E2383,5,FALSE) -> 99100 | M47: =VLOOKUP(A47,'Salary info'!A47:F2383,6,FALSE) -> Hourly | N47: =VLOOKUP(A47,'Salary info'!A47:G2383,7,FALSE) -> 27.816
A48: 2233 | B48: Scientist I. | C48: Gavins Point DAM, SD | D48: 31266 | E48: F | F48: White (Not Hispanic or Latino) | G48: Fulltime | H48: 0 | I48: #N/A | J48: =VLOOKUP(A48,'Salary info'!A48:C2384,3,FALSE) -> #N/A | K48: =VLOOKUP(A48,'Salary info'!A48:D2384,4,FALSE) -> #N/A | L48: =VLOOKUP(A48,'Salary info'!A48:E2384,5,FALSE) -> #N/A | M48: =VLOOKUP(A48,'Salary info'!A48:F2384,6,FALSE) -> #N/A | N48: =VLOOKUP(A48,'Salary info'!A48:G2384,7,FALSE) -> #N/A
A49: 1327 | B49: Landscape Architect II. | C49: Henderson, NV | D49: 31271 | E49: M | F49: White (Not Hispanic or Latino) | G49: Part-time | H49: 0 | I49: E11.B | J49: =VLOOKUP(A49,'Salary info'!A49:C2385,3,FALSE) -> 44500 | K49: =VLOOKUP(A49,'Salary info'!A49:D2385,4,FALSE) -> 63500 | L49: =VLOOKUP(A49,'Salary info'!A49:E2385,5,FALSE) -> 82600 | M49: =VLOOKUP(A49,'Salary info'!A49:F2385,6,FALSE) -> Hourly | N49: =VLOOKUP(A49,'Salary info'!A49:G2385,7,FALSE) -> 31.11
A50: 1337 | B50: Project Director. | C50: San Diego, CA | D50: 31285 | E50: M | F50: White (Not Hispanic or Latino) | G50: Fulltime | H50: 19057 | I50: E16.D | J50: =VLOOKUP(A50,'Salary info'!A50:C2386,3,FALSE) -> 106100 | K50: =VLOOKUP(A50,'Salary info'!A50:D2386,4,FALSE) -> 151600 | L50: =VLOOKUP(A50,'Salary info'!A50:E2386,5,FALSE) -> 197100 | M50: =VLOOKUP(A50,'Salary info'!A50:F2386,6,FALSE) -> Salaried | N50: =VLOOKUP(A50,'Salary info'!A50:G2386,7,FALSE) -> 190570
A51: 872 | B51: Field Representative. | C51: Wesley Chapel, FL | D51: 31299 | E51: F | F51: White (Not Hispanic or Latino) | G51: Fulltime | H51: 0 | I51: N8.B | J51: =VLOOKUP(A51,'Salary info'!A51:C2387,3,FALSE) -> 33000 | K51: =VLOOKUP(A51,'Salary info'!A51:D2387,4,FALSE) -> 44000 | L51: =VLOOKUP(A51,'Salary info'!A51:E2387,5,FALSE) -> 55000 | M51: =VLOOKUP(A51,'Salary info'!A51:F2387,6,FALSE) -> Hourly | N51: =VLOOKUP(A51,'Salary info'!A51:G2387,7,FALSE) -> 22.36992
A52: 2246 | B52: Technical Intern I. | C52: Atlanta, GA | D52: 31302 | E52: M | F52: White (Not Hispanic or Latino) | G52: Part-time | H52: 0 | I52: N4.B | J52: =VLOOKUP(A52,'Salary info'!A52:C2388,3,FALSE) -> 22600 | K52: =VLOOKUP(A52,'Salary info'!A52:D2388,4,FALSE) -> 30100 | L52: =VLOOKUP(A52,'Salary info'!A52:E2388,5,FALSE) -> 37600 | M52: =VLOOKUP(A52,'Salary info'!A52:F2388,6,FALSE) -> Hourly | N52: =VLOOKUP(A52,'Salary info'!A52:G2388,7,FALSE) -> 11.5345
A53: 3124 | B53: Sr ROW Agent II. | C53: Atlanta, GA | D53: 31306 | E53: M | F53: Hispanic or Latino | G53: Part-time | H53: 0 | I53: E14.B | J53: =VLOOKUP(A53,'Salary info'!A53:C2389,3,FALSE) -> 64100 | K53: =VLOOKUP(A53,'Salary info'!A53:D2389,4,FALSE) -> 91500 | L53: =VLOOKUP(A53,'Salary info'!A53:E2389,5,FALSE) -> 119000 | M53: =VLOOKUP(A53,'Salary info'!A53:F2389,6,FALSE) -> Hourly | N53: =VLOOKUP(A53,'Salary info'!A53:G2389,7,FALSE) -> 43.92
A54: 1787 | B54: Associate Project Manager. | C54: Calverton, MD | D54: 31342 | E54: M | F54: White (Not Hispanic or Latino) | G54: Fulltime | H54: 0 | I54: E12.D | J54: =VLOOKUP(A54,'Salary info'!A54:C2390,3,FALSE) -> 61300 | K54: =VLOOKUP(A54,'Salary info'!A54:D2390,4,FALSE) -> 87600 | L54: =VLOOKUP(A54,'Salary info'!A54:E2390,5,FALSE) -> 113900 | M54: =VLOOKUP(A54,'Salary info'!A54:F2390,6,FALSE) -> Salaried | N54: =VLOOKUP(A54,'Salary info'!A54:G2390,7,FALSE) -> 79056
A55: 449 | B55: Sr Scientist III. | C55: Raleigh, NC | D55: 31376 | E55: M | F55: White (Not Hispanic or Latino) | G55: Fulltime | H55: 5215.6 | I55: E15.B | J55: =VLOOKUP(A55,'Salary info'!A55:C2391,3,FALSE) -> 76900 | K55: =VLOOKUP(A55,'Salary info'!A55:D2391,4,FALSE) -> 109800 | L55: =VLOOKUP(A55,'Salary info'!A55:E2391,5,FALSE) -> 142700 | M55: =VLOOKUP(A55,'Salary info'!A55:F2391,6,FALSE) -> Salaried | N55: =VLOOKUP(A55,'Salary info'!A55:G2391,7,FALSE) -> 104312
A56: 1339 | B56: Sr Group Manager. | C56: Phoenix, AZ | D56: 31376 | E56: M | F56: White (Not Hispanic or Latino) | G56: Fulltime | H56: 12517.44 | I56: E16.B | J56: =VLOOKUP(A56,'Salary info'!A56:C2392,3,FALSE) -> 92300 | K56: =VLOOKUP(A56,'Salary info'!A56:D2392,4,FALSE) -> 131800 | L56: =VLOOKUP(A56,'Salary info'!A56:E2392,5,FALSE) -> 171300 | M56: =VLOOKUP(A56,'Salary info'!A56:F2392,6,FALSE) -> Salaried | N56: =VLOOKUP(A56,'Salary info'!A56:G2392,7,FALSE) -> 125174.4
A57: 1233 | B57: Field Technician II. | C57: Austin, TX | D57: 31516 | E57: M | F57: White (Not Hispanic or Latino) | G57: Part-time | H57: 0 | I57: N7.B | J57: =VLOOKUP(A57,'Salary info'!A57:C2393,3,FALSE) -> 30000 | K57: =VLOOKUP(A57,'Salary info'!A57:D2393,4,FALSE) -> 40000 | L57: =VLOOKUP(A57,'Salary info'!A57:E2393,5,FALSE) -> 50000 | M57: =VLOOKUP(A57,'Salary info'!A57:F2393,6,FALSE) -> Hourly | N57: =VLOOKUP(A57,'Salary info'!A57:G2393,7,FALSE) -> 17.629
A58: 354 | B58: Project Manager. | C58: Newport News, VA | D58: 31565 | E58: M | F58: White (Not Hispanic or Latino) | G58: Part-time | H58: 0 | I58: E14.B | J58: =VLOOKUP(A58,'Salary info'!A58:C2394,3,FALSE) -> 64100 | K58: =VLOOKUP(A58,'Salary info'!A58:D2394,4,FALSE) -> 91500 | L58: =VLOOKUP(A58,'Salary info'!A58:E2394,5,FALSE) -> 119000 | M58: =VLOOKUP(A58,'Salary info'!A58:F2394,6,FALSE) -> Hourly | N58: =VLOOKUP(A58,'Salary info'!A58:G2394,7,FALSE) -> 39.04
A59: 1340 | B59: Sr Scientist III. | C59: Jacksonville, FL | D59: 31565 | E59: M | F59: White (Not Hispanic or Latino) | G59: Part-time | H59: 0 | I59: E15.B | J59: =VLOOKUP(A59,'Salary info'!A59:C2395,3,FALSE) -> 76900 | K59: =VLOOKUP(A59,'Salary info'!A59:D2395,4,FALSE) -> 109800 | L59: =VLOOKUP(A59,'Salary info'!A59:E2395,5,FALSE) -> 142700 | M59: =VLOOKUP(A59,'Salary info'!A59:F2395,6,FALSE) -> Hourly | N59: =VLOOKUP(A59,'Salary info'!A59:G2395,7,FALSE) -> 57.035
A60: 1725 | B60: Construction Management Representative II. | C60: Nashville, TN | D60: 31579 | E60: F | F60: White (Not Hispanic or Latino) | G60: Fulltime | H60: 0 | I60: E11.A | J60: =VLOOKUP(A60,'Salary info'!A60:C2396,3,FALSE) -> 42200 | K60: =VLOOKUP(A60,'Salary info'!A60:D2396,4,FALSE) -> 60300 | L60: =VLOOKUP(A60,'Salary info'!A60:E2396,5,FALSE) -> 78400 | M60: =VLOOKUP(A60,'Salary info'!A60:F2396,6,FALSE) -> Salaried | N60: =VLOOKUP(A60,'Salary info'!A60:G2396,7,FALSE) -> 58872.32
... A80: 3470 | B80: Project Manager. | C80: Raleigh, NC | D80: 32202 | E80: F | F80: White (Not Hispanic or Latino) | G80: Part-time | H80: 0 | I80: E14.B | J80: =VLOOKUP(A80,'Salary info'!A80:C2416,3,FALSE) -> 64100 | K80: =VLOOKUP(A80,'Salary info'!A80:D2416,4,FALSE) -> 91500 | L80: =VLOOKUP(A80,'Salary info'!A80:E2416,5,FALSE) -> 119000 | M80: =VLOOKUP(A80,'Salary info'!A80:F2416,6,FALSE) -> Hourly | N80: =VLOOKUP(A80,'Salary info'!A80:G2416,7,FALSE) -> 41.48
A81: 3039 | B81: Operations Coordinator I. | C81: Lake City, FL | D81: 32209 | E81: F | F81: White (Not Hispanic or Latino) | G81: Fulltime | H81: 0 | I81: #N/A | J81: =VLOOKUP(A81,'Salary info'!A81:C2417,3,FALSE) -> #N/A | K81: =VLOOKUP(A81,'Salary info'!A81:D2417,4,FALSE) -> #N/A | L81: =VLOOKUP(A81,'Salary info'!A81:E2417,5,FALSE) -> #N/A | M81: =VLOOKUP(A81,'Salary info'!A81:F2417,6,FALSE) -> #N/A | N81: =VLOOKUP(A81,'Salary info'!A81:G2417,7,FALSE) -> #N/A
A82: 2145 | B82: Sr Engineer II. | C82: Austin, TX | D82: 32223 | E82: M | F82: White (Not Hispanic or Latino) | G82: Fulltime | H82: 0 | I82: E14.B | J82: =VLOOKUP(A82,'Salary info'!A82:C2418,3,FALSE) -> 64100 | K82: =VLOOKUP(A82,'Salary info'!A82:D2418,4,FALSE) -> 91500 | L82: =VLOOKUP(A82,'Salary info'!A82:E2418,5,FALSE) -> 119000 | M82: =VLOOKUP(A82,'Salary info'!A82:F2418,6,FALSE) -> Salaried | N82: =VLOOKUP(A82,'Salary info'!A82:G2418,7,FALSE) -> 88145
A83: 3032 | B83: Sr Engineer II. | C83: Metairie, LA | D83: 32230 | E83: M | F83: White (Not Hispanic or Latino) | G83: Fulltime | H83: 0 | I83: E14.B | J83: =VLOOKUP(A83,'Salary info'!A83:C2419,3,FALSE) -> 64100 | K83: =VLOOKUP(A83,'Salary info'!A83:D2419,4,FALSE) -> 91500 | L83: =VLOOKUP(A83,'Salary info'!A83:E2419,5,FALSE) -> 119000 | M83: =VLOOKUP(A83,'Salary info'!A83:F2419,6,FALSE) -> Salaried | N83: =VLOOKUP(A83,'Salary info'!A83:G2419,7,FALSE) -> 95404
A84: 3031 | B84: Sr Designer I. | C84: Lake City, FL | D84: 32262 | E84: M | F84: White (Not Hispanic or Latino) | G84: Fulltime | H84: 0 | I84: E12.B | J84: =VLOOKUP(A84,'Salary info'!A84:C2420,3,FALSE) -> 53300 | K84: =VLOOKUP(A84,'Salary info'!A84:D2420,4,FALSE) -> 76200 | L84: =VLOOKUP(A84,'Salary info'!A84:E2420,5,FALSE) -> 99100 | M84: =VLOOKUP(A84,'Salary info'!A84:F2420,6,FALSE) -> Salaried | N84: =VLOOKUP(A84,'Salary info'!A84:G2420,7,FALSE) -> 74664
A85: 2598 | B85: Sr Engineer I. | C85: Ft. Worth, TX | D85: 32265 | E85: M | F85: White (Not Hispanic or Latino) | G85: Fulltime | H85: 0 | I85: E12.B | J85: =VLOOKUP(A85,'Salary info'!A85:C2421,3,FALSE) -> 53300 | K85: =VLOOKUP(A85,'Salary info'!A85:D2421,4,FALSE) -> 76200 | L85: =VLOOKUP(A85,'Salary info'!A85:E2421,5,FALSE) -> 99100 | M85: =VLOOKUP(A85,'Salary info'!A85:F2421,6,FALSE) -> Salaried | N85: =VLOOKUP(A85,'Salary info'!A85:G2421,7,FALSE) -> 76738
A86: 2164 | B86: Engineer II. | C86: Bartow, FL | D86: 32279 | E86: M | F86: White (Not Hispanic or Latino) | G86: Fulltime | H86: 0 | I86: E11.B | J86: =VLOOKUP(A86,'Salary info'!A86:C2422,3,FALSE) -> 44500 | K86: =VLOOKUP(A86,'Salary info'!A86:D2422,4,FALSE) -> 63500 | L86: =VLOOKUP(A86,'Salary info'!A86:E2422,5,FALSE) -> 82600 | M86: =VLOOKUP(A86,'Salary info'!A86:F2422,6,FALSE) -> Salaried | N86: =VLOOKUP(A86,'Salary info'!A86:G2422,7,FALSE) -> 70516
A87: 2139 | B87: Scientist I. | C87: Calverton, MD | D87: 32288 | E87: F | F87: White (Not Hispanic or Latino) | G87: Fulltime | H87: 0 | I87: E10.D | J87: =VLOOKUP(A87,'Salary info'!A87:C2423,3,FALSE) -> 42600 | K87: =VLOOKUP(A87,'Salary info'!A87:D2423,4,FALSE) -> 60800 | L87: =VLOOKUP(A87,'Salary info'!A87:E2423,5,FALSE) -> 79000 | M87: =VLOOKUP(A87,'Salary info'!A87:F2423,6,FALSE) -> Salaried | N87: =VLOOKUP(A87,'Salary info'!A87:G2423,7,FALSE) -> 39040
A88: 1715 | B88: Proposal Coordinator II. | C88: Tallahassee, FL | D88: 32295 | E88: M | F88: White (Not Hispanic or Latino) | G88: Part-time | H88: 0 | I88: E11.C | J88: =VLOOKUP(A88,'Salary info'!A88:C2424,3,FALSE) -> 46700 | K88: =VLOOKUP(A88,'Salary info'!A88:D2424,4,FALSE) -> 66700 | L88: =VLOOKUP(A88,'Salary info'!A88:E2424,5,FALSE) -> 86700 | M88: =VLOOKUP(A88,'Salary info'!A88:F2424,6,FALSE) -> Hourly | N88: =VLOOKUP(A88,'Salary info'!A88:G2424,7,FALSE) -> 26.352
...

Sheet Salary info
A1: ID | B1: Salary Grade | C1: Grade Min | D1: Grade Mid | E1: Grade Max | F1: Pay Basis | G1: Current Salary
A2: 2959 | B2: E10.A | C2: 35200 | D2: 50300 | E2: 65400 | F2: Salaried | G2: 36602.342
A3: 3501 | B3: E10.A | C3: 35200 | D3: 50300 | E3: 65400 | F3: Salaried | G3: 41791.1
A4: 2121 | B4: E10.A | C4: 35200 | D4: 50300 | E4: 65400 | F4: Salaried | G4: 43554
A5: 221 | B5: E10.A | C5: 35200 | D5: 50300 | E5: 65400 | F5: Salaried | G5: 45102.034
A6: 3416 | B6: E10.A | C6: 35200 | D6: 50300 | E6: 65400 | F6: Salaried | G6: 45148.979
A7: 2233 | B7: E10.A | C7: 35200 | D7: 50300 | E7: 65400 | F7: Salaried | G7: 46848
A8: 642 | B8: E10.A | C8: 35200 | D8: 50300 | E8: 65400 | F8: Salaried | G8: 48721.725
A9: 2623 | B9: E10.A | C9: 35200 | D9: 50300 | E9: 65400 | F9: Salaried | G9: 50150
A10: 2453 | B10: E10.A | C10: 35200 | D10: 50300 | E10: 65400 | F10: Salaried | G10: 53363.19
A11: 2976 | B11: E10.A | C11: 35200 | D11: 50300 | E11: 65400 | F11: Salaried | G11: 52156
A12: 294 | B12: E10.A | C12: 35200 | D12: 50300 | E12: 65400 | F12: Salaried | G12: 52538.47
A13: 226 | B13: E10.A | C13: 35200 | D13: 50300 | E13: 65400 | F13: Salaried | G13: 56620.2
... A2338: 2464 | B2338: N9.D | C2338: 41800 | D2338: 55700 | E2338: 69600 | F2338: Hourly | G2338: 28.80786

Sheet Bonus Info
A1: ID | B1: Bonus Amt
A2: 1 | B2: 0
A3: 3 | B3: 0
A4: 4 | B4: 0
A5: 5 | B5: 0
A6: 6 | B6: 0
A7: 10 | B7: 0
A8: 11 | B8: 0
A9: 13 | B9: 0
A10: 15 | B10: 0
A11: 17 | B11: 14061.72
A12: 18 | B12: 0
A13: 22 | B13: 0
... A2338: 3581 | B2338: 0

Sheet Combined Data Worksheet
A1: Copied from DEMO | B1: From DEMO | C1: FROM JOB DATA | D1: FROM SALARY info | F1: From Demographics | G1: From Bonus Info | H1: Current Salary+Bonus | I1: Calculation (convert salary to hourly)
A2: ID | B2: Gender | C2: Job Name | D2: Pay Basis | E2: Current Salary | F2: Assignment Category | G2: Bonus Amt | H2: Total Salary | I2: Converted PAY
A3: 2064 | B3: =VLOOKUP(A3,Demographics!$A$1:$D$2338,2,FALSE) -> M | C3: - | D3: Salaried | E3: 255138.17 | F3: - | G3: 25513.817 | H3: 280651.99 | I3: 134.92884
A4: 1025 | B4: =VLOOKUP(A4,Demographics!$A$1:$D$2338,2,FALSE) -> M | C4: Operations Director | D4: Salaried | E4: 219600 | F4: - | G4: 54900 | H4: 274500 | I4: 131.97115
A5: 1525 | B5: =VLOOKUP(A5,Demographics!$A$1:$D$2338,2,FALSE) -> M | C5: Business Sector Manager | D5: Salaried | E5: 222666 | F5: - | G5: 44533.2 | H5: 267199.2 | I5: 128.46115
A6: 2814 | B6: =VLOOKUP(A6,Demographics!$A$1:$D$2338,2,FALSE) -> M | C6: - | D6: Salaried | E6: 217770.21 | F6: - | G6: 43554.041 | H6: 261324.25 | I6: 125.63666
A7: 2755 | B7: =VLOOKUP(A7,Demographics!$A$1:$D$2338,2,FALSE) -> M | C7: Business Sector Manager | D7: Salaried | E7: 210630.2 | F7: - | G7: 42126.04 | H7: 252756.24 | I7: 121.51742
A8: 2742 | B8: =VLOOKUP(A8,Demographics!$A$1:$D$2338,2,FALSE) -> M | C8: - | D8: Salaried | E8: 205615 | F8: - | G8: 41123 | H8: 246738 | I8: 118.62404
A9: 50 | B9: =VLOOKUP(A9,Demographics!$A$1:$D$2338,2,FALSE) -> M | C9: Business Sector Manager | D9: Salaried | E9: 204960 | F9: - | G9: 40992 | H9: 245952 | I9: 118.24615
A10: 1245 | B10: =VLOOKUP(A10,Demographics!$A$1:$D$2338,2,FALSE) -> M | C10: - | D10: Salaried | E10: 210823.81 | F10: - | G10: 31623.571 | H10: 242447.38 | I10: 116.56124
A11: 25 | B11: =VLOOKUP(A11,Demographics!$A$1:$D$2338,2,FALSE) -> M | C11: Business Sector Manager | D11: Salaried | E11: 200600 | F11: - | G11: 40120 | H11: 240720 | I11: 115.73077
A12: 2247 | B12: =VLOOKUP(A12,Demographics!$A$1:$D$2338,2,FALSE) -> M | C12: - | D12: Salaried | E12: 204960 | F12: - | G12: 30744 | H12: 235704 | I12: 113.31923
A13: 955 | B13: =VLOOKUP(A13,Demographics!$A$1:$D$2338,2,FALSE) -> M | C13: Sr Practice Manager | D13: Salaried | E13: 204156.26 | F13: - | G13: 30623.44 | H13: 234779.7 | I13: 112.87486
A14: 2809 | B14: =VLOOKUP(A14,Demographics!$A$1:$D$2338,2,FALSE) -> M | C14: - | D14: Salaried | E14: 200187.46 | F14: - | G14: 30028.119 | H14: 230215.58 | I14: 110.68057
... A1189: 880 | B1189: =VLOOKUP(A1189,Demographics!$A$1:$D$2338,2,FALSE) -> M | C1189: - | D1189: Hourly | E1189: 8.784 | F1189: Part-time | G1189: 0 | H1189: 8.784 | I1189: 0.0042230769
A1190: 80 | B1190: =VLOOKUP(A1190,Demographics!$A$1:$D$2338,2,FALSE) -> F | C1190: Engineer I. | D1190: - | E1190: - | F1190: - | G1190: 0 | H1190: 0 | I1190: 0
A1191: 185 | B1191: =VLOOKUP(A1191,Demographics!$A$1:$D$2338,2,FALSE) -> F | C1191: Operations Coordinator I. | D1191: - | E1191: - | F1191: - | G1191: 0 | H1191: 0 | I1191: 0
A1192: 196 | B1192: =VLOOKUP(A1192,Demographics!$A$1:$D$2338,2,FALSE) -> F | C1192: Construction Management Representative I | D1192: - | E1192: - | F1192: - | G1192: 0 | H1192: 0 | I1192: 0
A1193: 206 | B1193: =VLOOKUP(A1193,Demographics!$A$1:$D$2338,2,FALSE) -> F | C1193: Proposal Coordinator I. | D1193: - | E1193: - | F1193: - | G1193: 0 | H1193: 0 | I1193: 0
A1194: 221 | B1194: =VLOOKUP(A1194,Demographics!$A$1:$D$2338,2,FALSE) -> F | C1194: Proposal Coordinator I. | D1194: - | E1194: - | F1194: - | G1194: 0 | H1194: 0 | I1194: 0
A1195: 226 | B1195: =VLOOKUP(A1195,Demographics!$A$1:$D$2338,2,FALSE) -> F | C1195: Operations Coordinator I. | D1195: - | E1195: - | F1195: - | G1195: 0 | H1195: 0 | I1195: 0
A1196: 240 | B1196: =VLOOKUP(A1196,Demographics!$A$1:$D$2338,2,FALSE) -> F | C1196: Engineer I. | D1196: - | E1196: - | F1196: - | G1196: 0 | H1196: 0 | I1196: 0
A1197: 248 | B1197: =VLOOKUP(A1197,Demographics!$A$1:$D$2338,2,FALSE) -> F | C1197: Engineer I. | D1197: - | E1197: - | F1197: - | G1197: 0 | H1197: 0 | I1197: 0
A1198: 256 | B1198: =VLOOKUP(A1198,Demographics!$A$1:$D$2338,2,FALSE) -> M | C1198: Engineer I. | D1198: - | E1198: - | F1198: Part-time | G1198: 0 | H1198: 0 | I1198: 0
A1199: 274 | B1199: =VLOOKUP(A1199,Demographics!$A$1:$D$2338,2,FALSE) -> F | C1199: Proposal Coordinator I. | D1199: - | E1199: - | F1199: - | G1199: 0 | H1199: 0 | I1199: 0
A1200: 276 | B1200: =VLOOKUP(A1200,Demographics!$A$1:$D$2338,2,FALSE) -> M | C1200: Engineer II. | D1200: - | E1200: - | F1200: - | G1200: 0 | H1200: 0 | I1200: 0
A1201: 277 | B1201: =VLOOKUP(A1201,Demographics!$A$1:$D$2338,2,FALSE) -> F | C1201: Scientist I. | D1201: - | E1201: - | F1201: - | G1201: 0 | H1201: 0 | I1201: 0
... A2339: 3581 | B2339: =VLOOKUP(A2339,Demographics!$A$1:$D$2338,2,FALSE) -> M | C2339: - | D2339: - | E2339: - | F2339: - | G2339: 0 | H2339: 0 | I2339: 0

Sheet PAY EQUITY WORK SHEET
B1: POSITION 1 | E1: POSITION 2 | H1: POSITION 3 | K1: POSITION 4 | N1: POSITION 5
B3: M | C3: F | E3: M | F3: F | H3: M | I3: F | K3: M | L3: F | N3: M | O3: F
A4: Avg Salary | B4: 173.24197 | C4: 93.080657 | E4: 169.44444 | F4: 92.625939 | H4: 164.93778 | I4: 92.563459 | K4: 161.31126 | L4: 92.505607 | N4: 156.02237 | O4: 92.108625
A6: Overall Average
B8: T.TEST
B9: less than .05?
B10: -if YES, there is a significant difference between Male and female
B11: -if NO, there is NOT a significant difference between Male and female
A13: PASTE RAW DATA HERE:
B14: M | C14: F | E14: M | F14: F | H14: M | I14: F | K14: M | L14: F | N14: M | O14: F
B15: 280651.99 | C15: 66738.831 | E15: 274500 | F15: 66412.798 | H15: 267199.2 | I15: 66368 | K15: 261324.25 | L15: 66326.52 | N15: 252756.24 | O15: 66041.884

Sheet Summary Table
C3: Average Pay | G3: Statistical Diff
B4: Position | C4: Overall | D4: Male | E4: Female | G4: P-value | H4: Yes/No
B5: Position 1 | C5: 4
B6: Position 2
B7: Position 3
B8: Position 4
B9: Position 5
